BEGIN:VCALENDAR
VERSION:2.0
PRODID:-//Temple Emanu-El - ECPv6.15.18//NONSGML v1.0//EN
CALSCALE:GREGORIAN
METHOD:PUBLISH
X-WR-CALNAME:Temple Emanu-El
X-ORIGINAL-URL:https://teesd.org
X-WR-CALDESC:Events for Temple Emanu-El
REFRESH-INTERVAL;VALUE=DURATION:PT1H
X-Robots-Tag:noindex
X-PUBLISHED-TTL:PT1H
BEGIN:VTIMEZONE
TZID:UTC
BEGIN:STANDARD
TZOFFSETFROM:+0000
TZOFFSETTO:+0000
TZNAME:UTC
DTSTART:20250101T000000
END:STANDARD
END:VTIMEZONE
BEGIN:VTIMEZONE
TZID:America/Los_Angeles
BEGIN:DAYLIGHT
TZOFFSETFROM:-0800
TZOFFSETTO:-0700
TZNAME:PDT
DTSTART:20250309T100000
END:DAYLIGHT
BEGIN:STANDARD
TZOFFSETFROM:-0700
TZOFFSETTO:-0800
TZNAME:PST
DTSTART:20251102T090000
END:STANDARD
BEGIN:DAYLIGHT
TZOFFSETFROM:-0800
TZOFFSETTO:-0700
TZNAME:PDT
DTSTART:20260308T100000
END:DAYLIGHT
BEGIN:STANDARD
TZOFFSETFROM:-0700
TZOFFSETTO:-0800
TZNAME:PST
DTSTART:20261101T090000
END:STANDARD
BEGIN:DAYLIGHT
TZOFFSETFROM:-0800
TZOFFSETTO:-0700
TZNAME:PDT
DTSTART:20270314T100000
END:DAYLIGHT
BEGIN:STANDARD
TZOFFSETFROM:-0700
TZOFFSETTO:-0800
TZNAME:PST
DTSTART:20271107T090000
END:STANDARD
END:VTIMEZONE
BEGIN:VEVENT
DTSTART;TZID=UTC:20260421T180000
DTEND;TZID=UTC:20260421T210000
DTSTAMP:20260421T153202
CREATED:20250806T234217Z
LAST-MODIFIED:20250806T234633Z
UID:10004483-1776794400-1776805200@teesd.org
SUMMARY:CJH
DESCRIPTION:
URL:https://teesd.org/event/cjh-2/2026-04-21/
LOCATION:Temple Emanu-El San Diego\, 6299 Capri Drive\, San Diego\, CA\, 92120-4632\, United States
ATTACH;FMTTYPE=image/webp:https://teesd.org/wp-content/uploads/2024/06/Community-Jewish-High-01.webp
ORGANIZER;CN="Temple Emanu-EL San Diego":MAILTO:temple@teesd.org
END:VEVENT
BEGIN:VEVENT
DTSTART;TZID=America/Los_Angeles:20260422T110000
DTEND;TZID=America/Los_Angeles:20260422T120000
DTSTAMP:20260421T153202
CREATED:20240828T232519Z
LAST-MODIFIED:20260414T170917Z
UID:10003264-1776855600-1776859200@teesd.org
SUMMARY:Coffee with the Rabbi
DESCRIPTION:Come join Rabbi Devorah for coffee and discussion\, either in person at the Temple library or on zoom.
URL:https://teesd.org/event/coffee-with-the-rabbi/2026-04-22/
LOCATION:Temple Emanu-El San Diego\, 6299 Capri Drive\, San Diego\, CA\, 92120-4632\, United States
ATTACH;FMTTYPE=image/jpeg:https://teesd.org/wp-content/uploads/2024/01/pexels-lood-goosen-1235706-b.jpg
ORGANIZER;CN="Temple Emanu-EL San Diego":MAILTO:temple@teesd.org
END:VEVENT
BEGIN:VEVENT
DTSTART;TZID=UTC:20260422T163000
DTEND;TZID=UTC:20260422T181500
DTSTAMP:20260421T153202
CREATED:20250613T175837Z
LAST-MODIFIED:20250613T180458Z
UID:10004272-1776875400-1776881700@teesd.org
SUMMARY:Torah School Hebrew Classes
DESCRIPTION:
URL:https://teesd.org/event/torah-school-hebrew-classes-2/2026-04-22/
LOCATION:Temple Emanu-El San Diego\, 6299 Capri Drive\, San Diego\, CA\, 92120-4632\, United States
ATTACH;FMTTYPE=image/jpeg:https://teesd.org/wp-content/uploads/2024/08/TorahSchool2023_137.jpg
ORGANIZER;CN="Temple Emanu-EL San Diego":MAILTO:temple@teesd.org
END:VEVENT
BEGIN:VEVENT
DTSTART;TZID=UTC:20260422T180000
DTEND;TZID=UTC:20260422T200000
DTSTAMP:20260421T153202
CREATED:20251104T233753Z
LAST-MODIFIED:20260401T230415Z
UID:10004734-1776880800-1776888000@teesd.org
SUMMARY:Torah for the Table
DESCRIPTION:Jewish learning meets culinary school as Barry Lander and Rabbi Devorah lead you through lessons where you learn how to cook delicious Jewish meals and learn about our tradition. Fun and delicious! \nRegister HERE.
URL:https://teesd.org/event/torah-for-the-table-4/2026-04-22/
LOCATION:Temple Emanu-El San Diego\, 6299 Capri Drive\, San Diego\, CA\, 92120-4632\, United States
ATTACH;FMTTYPE=image/jpeg:https://teesd.org/wp-content/uploads/2024/10/TorahfortheTable-43.jpg
ORGANIZER;CN="Temple Emanu-EL San Diego":MAILTO:temple@teesd.org
END:VEVENT
BEGIN:VEVENT
DTSTART;TZID=America/Los_Angeles:20260423T100000
DTEND;TZID=America/Los_Angeles:20260423T110000
DTSTAMP:20260421T153202
CREATED:20251015T173550Z
LAST-MODIFIED:20251015T174135Z
UID:10000968-1776938400-1776942000@teesd.org
SUMMARY:Recovery International
DESCRIPTION:Recovery International will meet in the Social Hall.
URL:https://teesd.org/event/recovery-international-2/2026-04-23/
LOCATION:Temple Emanu-El San Diego\, 6299 Capri Drive\, San Diego\, CA\, 92120-4632\, United States
ATTACH;FMTTYPE=image/jpeg:https://teesd.org/wp-content/uploads/2024/08/cropped-BetterMentalHealth200.jpg
END:VEVENT
BEGIN:VEVENT
DTSTART;TZID=UTC:20260423T113000
DTEND;TZID=UTC:20260423T130000
DTSTAMP:20260421T153202
CREATED:20260128T194340Z
LAST-MODIFIED:20260305T230226Z
UID:10004839-1776943800-1776949200@teesd.org
SUMMARY:Striving to be Human
DESCRIPTION:Striving to be Human\nLunch and Learn with Rabbi Lawson\nTemple Emanu-El \nClass meets on Thursdays from 11:30 am – 1 pm \n\nMarch 5 (Canceled – To be rescheduled)\nMarch 12\nMarch 19\nMarch 26\nApril 16\nApril 23\nApril 30\n\n\nPack a lunch and talk together about Jewish prospective on 21st Century challenges. Each week\, wrestle with challenges within us and beyond us\, discussing varied topics like: is moral justice at the core of humanity; choosing between good and evil; a look at Queer Jewish theology; was the world created for my sake; beyond the beginning and end of life; can A.I. develop a soul; and tensions between the good and the perfect.\ \nRequired text: “Striving to Be Human: Jewish Perspectives on Twenty-First-Century Challenges” by Rabbi Leah Cohen Tenenbaum and Rabbi Douglas Kohn (CCAR Press) is available in hard copy and on Kindle. \nCost is $35 for the series. \n\nRegister HERE.
URL:https://teesd.org/event/striving-to-be-human/2026-04-23/
LOCATION:Temple Emanu-El San Diego\, 6299 Capri Drive\, San Diego\, CA\, 92120-4632\, United States
ATTACH;FMTTYPE=application/pdf:https://teesd.org/wp-content/uploads/2026/01/Striving-to-be-Human-No-March-5.pdf
ORGANIZER;CN="Temple Emanu-EL San Diego":MAILTO:temple@teesd.org
END:VEVENT
BEGIN:VEVENT
DTSTART;TZID=America/Los_Angeles:20260423T123000
DTEND;TZID=America/Los_Angeles:20260423T140000
DTSTAMP:20260421T153202
CREATED:20240829T175122Z
LAST-MODIFIED:20260106T173306Z
UID:10001226-1776947400-1776952800@teesd.org
SUMMARY:Bridge with Benj
DESCRIPTION:Come play bridge with Rabbi Benj in the Temple Sanctuary.
URL:https://teesd.org/event/bridge-with-benj/2026-04-23/
LOCATION:Temple Emanu-El San Diego\, 6299 Capri Drive\, San Diego\, CA\, 92120-4632\, United States
ATTACH;FMTTYPE=image/jpeg:https://teesd.org/wp-content/uploads/2024/08/bridge.jpg
ORGANIZER;CN="Temple Emanu-EL San Diego":MAILTO:temple@teesd.org
END:VEVENT
BEGIN:VEVENT
DTSTART;TZID=UTC:20260424T180000
DTEND;TZID=UTC:20260424T190000
DTSTAMP:20260421T153202
CREATED:20251017T162111Z
LAST-MODIFIED:20260413T175050Z
UID:10004673-1777053600-1777057200@teesd.org
SUMMARY:Disney Family Shabbat
DESCRIPTION:Wear your favorite Disney attire and join us for Disney Shabbat! \nTemple Emanu-El\nFriday\, April 24\n5 pm Dinner\n6 pm Family Service \nJoin us for dinner followed by a Family Shabbat Service (30 minutes) led by our Torah School’s TK\, kindergarten and first grade students. There will be a puppet show! \nDinner will be hot dogs\, tater tots\, veggies\, fruit\, salad bar\, and dessert. \nRegister HERE. \n  \n 
URL:https://teesd.org/event/pj-family-shabbat-2/
LOCATION:Temple Emanu-El San Diego\, 6299 Capri Drive\, San Diego\, CA\, 92120-4632\, United States
ATTACH;FMTTYPE=application/pdf:https://teesd.org/wp-content/uploads/2025/10/Disney-Shabbat.pdf
ORGANIZER;CN="Temple Emanu-EL San Diego":MAILTO:temple@teesd.org
END:VEVENT
BEGIN:VEVENT
DTSTART;TZID=UTC:20260425T090000
DTEND;TZID=UTC:20260425T100000
DTSTAMP:20260421T153202
CREATED:20240830T200537Z
LAST-MODIFIED:20260331T195510Z
UID:10001744-1777107600-1777111200@teesd.org
SUMMARY:Torah Study
DESCRIPTION:Join in person or zoom for Torah Study in the Temple Library before Saturday Shabbat Service.
URL:https://teesd.org/event/torah-study/2026-04-25/
LOCATION:Temple Emanu-El San Diego\, 6299 Capri Drive\, San Diego\, CA\, 92120-4632\, United States
ATTACH;FMTTYPE=image/webp:https://teesd.org/wp-content/uploads/2024/07/Torah-Study-Group.webp
ORGANIZER;CN="Temple Emanu-EL San Diego":MAILTO:temple@teesd.org
END:VEVENT
BEGIN:VEVENT
DTSTART;TZID=UTC:20260425T103000
DTEND;TZID=UTC:20260425T120000
DTSTAMP:20260421T153202
CREATED:20240830T202055Z
LAST-MODIFIED:20260330T183917Z
UID:10002003-1777113000-1777118400@teesd.org
SUMMARY:Shabbat Morning Service
DESCRIPTION:
URL:https://teesd.org/event/shabbat-morning-service/2026-04-25/
LOCATION:Temple Emanu-El San Diego\, 6299 Capri Drive\, San Diego\, CA\, 92120-4632\, United States
ATTACH;FMTTYPE=image/webp:https://teesd.org/wp-content/uploads/2024/05/shabbat-morning-service-v-1.webp
ORGANIZER;CN="Temple Emanu-EL San Diego":MAILTO:temple@teesd.org
END:VEVENT
BEGIN:VEVENT
DTSTART;TZID=UTC:20260426T090000
DTEND;TZID=UTC:20260426T120000
DTSTAMP:20260421T153202
CREATED:20250613T175430Z
LAST-MODIFIED:20260401T010927Z
UID:10004246-1777194000-1777204800@teesd.org
SUMMARY:Torah School
DESCRIPTION:
URL:https://teesd.org/event/torah-school-3/2026-04-26/
LOCATION:Temple Emanu-El San Diego\, 6299 Capri Drive\, San Diego\, CA\, 92120-4632\, United States
ATTACH;FMTTYPE=image/jpeg:https://teesd.org/wp-content/uploads/2024/08/TorahSchool2023_113.jpg
ORGANIZER;CN="Temple Emanu-EL San Diego":MAILTO:temple@teesd.org
END:VEVENT
BEGIN:VEVENT
DTSTART;TZID=UTC:20260426T113000
DTEND;TZID=UTC:20260426T130000
DTSTAMP:20260421T153202
CREATED:20250723T161510Z
LAST-MODIFIED:20250723T163017Z
UID:10004388-1777203000-1777208400@teesd.org
SUMMARY:Introduction to Judaism
DESCRIPTION:
URL:https://teesd.org/event/introduction-to-judaism-2/2026-04-26/
LOCATION:Temple Emanu-El San Diego\, 6299 Capri Drive\, San Diego\, CA\, 92120-4632\, United States
ATTACH;FMTTYPE=image/jpeg:https://teesd.org/wp-content/uploads/2024/01/SukkotService2023-41-Copy-scaled.jpg
ORGANIZER;CN="Temple Emanu-EL San Diego":MAILTO:temple@teesd.org
END:VEVENT
BEGIN:VEVENT
DTSTART;TZID=UTC:20260426T140000
DTEND;TZID=UTC:20260426T150000
DTSTAMP:20260421T153202
CREATED:20260107T205051Z
LAST-MODIFIED:20260218T161148Z
UID:10004808-1777212000-1777215600@teesd.org
SUMMARY:Adult Beginning Hebrew
DESCRIPTION:Learn to read and write Hebrew in just 10 sessions! Beginning Hebrew will meet on Sundays from 2-3 PM on the following dates: \n\n\nJanuary 25\nFebruary 1\nFebruary 8\nFebruary 22\nMarch 8\nMarch 15\nApril 12\nApril 19\nApril 26\nMay 3\n\n\nIntermediate Hebrew will begin in Fall 2026 and Advanced Hebrew will be offered in Spring 2027\, culminating in the opportunity to enroll in the Adult B’nei Mitzvah class in Fall 2027. \n\n\nFor any questions contact music@teesd.org.
URL:https://teesd.org/event/adult-beginning-hebrew/2026-04-26/
LOCATION:Temple Emanu-El San Diego\, 6299 Capri Drive\, San Diego\, CA\, 92120-4632\, United States
ATTACH;FMTTYPE=application/pdf:https://teesd.org/wp-content/uploads/2026/01/Adult-Beginning-Hebrew-2026_QR-1.pdf
ORGANIZER;CN="Temple Emanu-EL San Diego":MAILTO:temple@teesd.org
END:VEVENT
BEGIN:VEVENT
DTSTART;TZID=UTC:20260427T133000
DTEND;TZID=UTC:20260427T160000
DTSTAMP:20260421T153202
CREATED:20240830T225043Z
LAST-MODIFIED:20251223T213818Z
UID:10002749-1777296600-1777305600@teesd.org
SUMMARY:Mah Jong
DESCRIPTION:Come join the Sisterhood in the Temple Sanctuary to play Mah Jong.
URL:https://teesd.org/event/mah-jong/2026-04-27/
LOCATION:Temple Emanu-El San Diego\, 6299 Capri Drive\, San Diego\, CA\, 92120-4632\, United States
ATTACH;FMTTYPE=image/jpeg:https://teesd.org/wp-content/uploads/2024/08/Mah-Jong-1.jpg
ORGANIZER;CN="Temple Emanu-EL San Diego":MAILTO:temple@teesd.org
END:VEVENT
BEGIN:VEVENT
DTSTART;TZID=UTC:20260428T103000
DTEND;TZID=UTC:20260428T120000
DTSTAMP:20260421T153202
CREATED:20251223T173318Z
LAST-MODIFIED:20251223T173318Z
UID:10004751-1777372200-1777377600@teesd.org
SUMMARY:Wisdom of Aging
DESCRIPTION:Aging well is not just a biological process; it’s a journey that unfolds with its own set of joys and challenges. \nThis program is designed to give participants the tools to live meaningful and productive lives while coping with the unavoidable stresses of aging. Participants will have the opportunity to share their perspectives with each other while engaging in meaningful conversations. \nWe will discuss:\nResilience\nThe power of experience\nThe importance of connection\, compassion and community\nLiving with uncertainty\nCelebrating our wisdom\nTransitions\nand much more…. \nWhen people come together in groups and speak from the heart they discover common threads\, similar concerns\, and shared longings. \nJoin us as we walk the journey of aging together. \nWhen:            Last Tuesday of Every Month from 10:30 AM to 12:00 PM\nJanuary through June 2026\nJanuary 27\, February 24\, March 31\, April 28\, May 26 and June 30\nWhere:           Temple Emanu-El – 6299 Capri Drive\, San Diego\, 92120\nLed by:           Arlene Miller\, creator of the Mi Shebeirach Tapestry\, and Gail Braverman\, Marriage & Family Therapist\nCost:               $30 for the series \nRegister HERE.
URL:https://teesd.org/event/wisdom-of-aging-2/2026-04-28/
LOCATION:Temple Emanu-El San Diego\, 6299 Capri Drive\, San Diego\, CA\, 92120-4632\, United States
ATTACH;FMTTYPE=application/pdf:https://teesd.org/wp-content/uploads/2025/12/The-Wisdom-of-Aging-2026_QR.pdf
ORGANIZER;CN="Temple Emanu-EL San Diego":MAILTO:temple@teesd.org
END:VEVENT
BEGIN:VEVENT
DTSTART;TZID=UTC:20260428T180000
DTEND;TZID=UTC:20260428T210000
DTSTAMP:20260421T153202
CREATED:20250806T234217Z
LAST-MODIFIED:20250806T234633Z
UID:10004484-1777399200-1777410000@teesd.org
SUMMARY:CJH
DESCRIPTION:
URL:https://teesd.org/event/cjh-2/2026-04-28/
LOCATION:Temple Emanu-El San Diego\, 6299 Capri Drive\, San Diego\, CA\, 92120-4632\, United States
ATTACH;FMTTYPE=image/webp:https://teesd.org/wp-content/uploads/2024/06/Community-Jewish-High-01.webp
ORGANIZER;CN="Temple Emanu-EL San Diego":MAILTO:temple@teesd.org
END:VEVENT
BEGIN:VEVENT
DTSTART;TZID=UTC:20260429T163000
DTEND;TZID=UTC:20260429T181500
DTSTAMP:20260421T153202
CREATED:20250613T175837Z
LAST-MODIFIED:20250613T180458Z
UID:10004273-1777480200-1777486500@teesd.org
SUMMARY:Torah School Hebrew Classes
DESCRIPTION:
URL:https://teesd.org/event/torah-school-hebrew-classes-2/2026-04-29/
LOCATION:Temple Emanu-El San Diego\, 6299 Capri Drive\, San Diego\, CA\, 92120-4632\, United States
ATTACH;FMTTYPE=image/jpeg:https://teesd.org/wp-content/uploads/2024/08/TorahSchool2023_137.jpg
ORGANIZER;CN="Temple Emanu-EL San Diego":MAILTO:temple@teesd.org
END:VEVENT
BEGIN:VEVENT
DTSTART;TZID=America/Los_Angeles:20260430T100000
DTEND;TZID=America/Los_Angeles:20260430T110000
DTSTAMP:20260421T153202
CREATED:20251015T173550Z
LAST-MODIFIED:20251015T174135Z
UID:10000969-1777543200-1777546800@teesd.org
SUMMARY:Recovery International
DESCRIPTION:Recovery International will meet in the Social Hall.
URL:https://teesd.org/event/recovery-international-2/2026-04-30/
LOCATION:Temple Emanu-El San Diego\, 6299 Capri Drive\, San Diego\, CA\, 92120-4632\, United States
ATTACH;FMTTYPE=image/jpeg:https://teesd.org/wp-content/uploads/2024/08/cropped-BetterMentalHealth200.jpg
END:VEVENT
BEGIN:VEVENT
DTSTART;TZID=UTC:20260430T113000
DTEND;TZID=UTC:20260430T130000
DTSTAMP:20260421T153202
CREATED:20260128T194340Z
LAST-MODIFIED:20260305T230226Z
UID:10004840-1777548600-1777554000@teesd.org
SUMMARY:Striving to be Human
DESCRIPTION:Striving to be Human\nLunch and Learn with Rabbi Lawson\nTemple Emanu-El \nClass meets on Thursdays from 11:30 am – 1 pm \n\nMarch 5 (Canceled – To be rescheduled)\nMarch 12\nMarch 19\nMarch 26\nApril 16\nApril 23\nApril 30\n\n\nPack a lunch and talk together about Jewish prospective on 21st Century challenges. Each week\, wrestle with challenges within us and beyond us\, discussing varied topics like: is moral justice at the core of humanity; choosing between good and evil; a look at Queer Jewish theology; was the world created for my sake; beyond the beginning and end of life; can A.I. develop a soul; and tensions between the good and the perfect.\ \nRequired text: “Striving to Be Human: Jewish Perspectives on Twenty-First-Century Challenges” by Rabbi Leah Cohen Tenenbaum and Rabbi Douglas Kohn (CCAR Press) is available in hard copy and on Kindle. \nCost is $35 for the series. \n\nRegister HERE.
URL:https://teesd.org/event/striving-to-be-human/2026-04-30/
LOCATION:Temple Emanu-El San Diego\, 6299 Capri Drive\, San Diego\, CA\, 92120-4632\, United States
ATTACH;FMTTYPE=application/pdf:https://teesd.org/wp-content/uploads/2026/01/Striving-to-be-Human-No-March-5.pdf
ORGANIZER;CN="Temple Emanu-EL San Diego":MAILTO:temple@teesd.org
END:VEVENT
BEGIN:VEVENT
DTSTART;TZID=America/Los_Angeles:20260430T123000
DTEND;TZID=America/Los_Angeles:20260430T140000
DTSTAMP:20260421T153202
CREATED:20240829T175122Z
LAST-MODIFIED:20260106T173306Z
UID:10001227-1777552200-1777557600@teesd.org
SUMMARY:Bridge with Benj
DESCRIPTION:Come play bridge with Rabbi Benj in the Temple Sanctuary.
URL:https://teesd.org/event/bridge-with-benj/2026-04-30/
LOCATION:Temple Emanu-El San Diego\, 6299 Capri Drive\, San Diego\, CA\, 92120-4632\, United States
ATTACH;FMTTYPE=image/jpeg:https://teesd.org/wp-content/uploads/2024/08/bridge.jpg
ORGANIZER;CN="Temple Emanu-EL San Diego":MAILTO:temple@teesd.org
END:VEVENT
BEGIN:VEVENT
DTSTART;TZID=America/Los_Angeles:20260501T180000
DTEND;TZID=America/Los_Angeles:20260501T190000
DTSTAMP:20260421T153202
CREATED:20250819T155553Z
LAST-MODIFIED:20260411T194159Z
UID:10002496-1777658400-1777662000@teesd.org
SUMMARY:Shabbat Service
DESCRIPTION:
URL:https://teesd.org/event/shabbat-service-friday-2/2026-05-01/
LOCATION:Temple Emanu-El San Diego\, 6299 Capri Drive\, San Diego\, CA\, 92120-4632\, United States
ATTACH;FMTTYPE=image/jpeg:https://teesd.org/wp-content/uploads/2024/08/TempleEmanu-El20of70.jpg
ORGANIZER;CN="Temple Emanu-EL San Diego":MAILTO:temple@teesd.org
END:VEVENT
BEGIN:VEVENT
DTSTART;TZID=UTC:20260502T090000
DTEND;TZID=UTC:20260502T100000
DTSTAMP:20260421T153202
CREATED:20240830T200537Z
LAST-MODIFIED:20260331T195510Z
UID:10001745-1777712400-1777716000@teesd.org
SUMMARY:Torah Study
DESCRIPTION:Join in person or zoom for Torah Study in the Temple Library before Saturday Shabbat Service.
URL:https://teesd.org/event/torah-study/2026-05-02/
LOCATION:Temple Emanu-El San Diego\, 6299 Capri Drive\, San Diego\, CA\, 92120-4632\, United States
ATTACH;FMTTYPE=image/webp:https://teesd.org/wp-content/uploads/2024/07/Torah-Study-Group.webp
ORGANIZER;CN="Temple Emanu-EL San Diego":MAILTO:temple@teesd.org
END:VEVENT
BEGIN:VEVENT
DTSTART;TZID=UTC:20260502T103000
DTEND;TZID=UTC:20260502T120000
DTSTAMP:20260421T153202
CREATED:20240830T202055Z
LAST-MODIFIED:20260330T183917Z
UID:10002004-1777717800-1777723200@teesd.org
SUMMARY:Shabbat Morning Service
DESCRIPTION:
URL:https://teesd.org/event/shabbat-morning-service/2026-05-02/
LOCATION:Temple Emanu-El San Diego\, 6299 Capri Drive\, San Diego\, CA\, 92120-4632\, United States
ATTACH;FMTTYPE=image/webp:https://teesd.org/wp-content/uploads/2024/05/shabbat-morning-service-v-1.webp
ORGANIZER;CN="Temple Emanu-EL San Diego":MAILTO:temple@teesd.org
END:VEVENT
BEGIN:VEVENT
DTSTART;TZID=UTC:20260503T090000
DTEND;TZID=UTC:20260503T120000
DTSTAMP:20260421T153202
CREATED:20250613T175430Z
LAST-MODIFIED:20260401T010927Z
UID:10004247-1777798800-1777809600@teesd.org
SUMMARY:Torah School
DESCRIPTION:
URL:https://teesd.org/event/torah-school-3/2026-05-03/
LOCATION:Temple Emanu-El San Diego\, 6299 Capri Drive\, San Diego\, CA\, 92120-4632\, United States
ATTACH;FMTTYPE=image/jpeg:https://teesd.org/wp-content/uploads/2024/08/TorahSchool2023_113.jpg
ORGANIZER;CN="Temple Emanu-EL San Diego":MAILTO:temple@teesd.org
END:VEVENT
BEGIN:VEVENT
DTSTART;TZID=UTC:20260503T113000
DTEND;TZID=UTC:20260503T130000
DTSTAMP:20260421T153202
CREATED:20250723T161510Z
LAST-MODIFIED:20250723T163017Z
UID:10004389-1777807800-1777813200@teesd.org
SUMMARY:Introduction to Judaism
DESCRIPTION:
URL:https://teesd.org/event/introduction-to-judaism-2/2026-05-03/
LOCATION:Temple Emanu-El San Diego\, 6299 Capri Drive\, San Diego\, CA\, 92120-4632\, United States
ATTACH;FMTTYPE=image/jpeg:https://teesd.org/wp-content/uploads/2024/01/SukkotService2023-41-Copy-scaled.jpg
ORGANIZER;CN="Temple Emanu-EL San Diego":MAILTO:temple@teesd.org
END:VEVENT
BEGIN:VEVENT
DTSTART;TZID=UTC:20260503T140000
DTEND;TZID=UTC:20260503T150000
DTSTAMP:20260421T153202
CREATED:20260107T205051Z
LAST-MODIFIED:20260218T161148Z
UID:10004809-1777816800-1777820400@teesd.org
SUMMARY:Adult Beginning Hebrew
DESCRIPTION:Learn to read and write Hebrew in just 10 sessions! Beginning Hebrew will meet on Sundays from 2-3 PM on the following dates: \n\n\nJanuary 25\nFebruary 1\nFebruary 8\nFebruary 22\nMarch 8\nMarch 15\nApril 12\nApril 19\nApril 26\nMay 3\n\n\nIntermediate Hebrew will begin in Fall 2026 and Advanced Hebrew will be offered in Spring 2027\, culminating in the opportunity to enroll in the Adult B’nei Mitzvah class in Fall 2027. \n\n\nFor any questions contact music@teesd.org.
URL:https://teesd.org/event/adult-beginning-hebrew/2026-05-03/
LOCATION:Temple Emanu-El San Diego\, 6299 Capri Drive\, San Diego\, CA\, 92120-4632\, United States
ATTACH;FMTTYPE=application/pdf:https://teesd.org/wp-content/uploads/2026/01/Adult-Beginning-Hebrew-2026_QR-1.pdf
ORGANIZER;CN="Temple Emanu-EL San Diego":MAILTO:temple@teesd.org
END:VEVENT
BEGIN:VEVENT
DTSTART;TZID=UTC:20260504T133000
DTEND;TZID=UTC:20260504T160000
DTSTAMP:20260421T153202
CREATED:20240830T225043Z
LAST-MODIFIED:20251223T213818Z
UID:10002750-1777901400-1777910400@teesd.org
SUMMARY:Mah Jong
DESCRIPTION:Come join the Sisterhood in the Temple Sanctuary to play Mah Jong.
URL:https://teesd.org/event/mah-jong/2026-05-04/
LOCATION:Temple Emanu-El San Diego\, 6299 Capri Drive\, San Diego\, CA\, 92120-4632\, United States
ATTACH;FMTTYPE=image/jpeg:https://teesd.org/wp-content/uploads/2024/08/Mah-Jong-1.jpg
ORGANIZER;CN="Temple Emanu-EL San Diego":MAILTO:temple@teesd.org
END:VEVENT
BEGIN:VEVENT
DTSTART;TZID=UTC:20260505T180000
DTEND;TZID=UTC:20260505T210000
DTSTAMP:20260421T153202
CREATED:20250806T234217Z
LAST-MODIFIED:20250806T234633Z
UID:10004485-1778004000-1778014800@teesd.org
SUMMARY:CJH
DESCRIPTION:
URL:https://teesd.org/event/cjh-2/2026-05-05/
LOCATION:Temple Emanu-El San Diego\, 6299 Capri Drive\, San Diego\, CA\, 92120-4632\, United States
ATTACH;FMTTYPE=image/webp:https://teesd.org/wp-content/uploads/2024/06/Community-Jewish-High-01.webp
ORGANIZER;CN="Temple Emanu-EL San Diego":MAILTO:temple@teesd.org
END:VEVENT
BEGIN:VEVENT
DTSTART;TZID=America/Los_Angeles:20260506T110000
DTEND;TZID=America/Los_Angeles:20260506T120000
DTSTAMP:20260421T153202
CREATED:20240828T232519Z
LAST-MODIFIED:20260414T170917Z
UID:10003266-1778065200-1778068800@teesd.org
SUMMARY:Coffee with the Rabbi
DESCRIPTION:Come join Rabbi Devorah for coffee and discussion\, either in person at the Temple library or on zoom.
URL:https://teesd.org/event/coffee-with-the-rabbi/2026-05-06/
LOCATION:Temple Emanu-El San Diego\, 6299 Capri Drive\, San Diego\, CA\, 92120-4632\, United States
ATTACH;FMTTYPE=image/jpeg:https://teesd.org/wp-content/uploads/2024/01/pexels-lood-goosen-1235706-b.jpg
ORGANIZER;CN="Temple Emanu-EL San Diego":MAILTO:temple@teesd.org
END:VEVENT
BEGIN:VEVENT
DTSTART;TZID=America/Los_Angeles:20260507T100000
DTEND;TZID=America/Los_Angeles:20260507T110000
DTSTAMP:20260421T153202
CREATED:20251015T173550Z
LAST-MODIFIED:20251015T174135Z
UID:10000970-1778148000-1778151600@teesd.org
SUMMARY:Recovery International
DESCRIPTION:Recovery International will meet in the Social Hall.
URL:https://teesd.org/event/recovery-international-2/2026-05-07/
LOCATION:Temple Emanu-El San Diego\, 6299 Capri Drive\, San Diego\, CA\, 92120-4632\, United States
ATTACH;FMTTYPE=image/jpeg:https://teesd.org/wp-content/uploads/2024/08/cropped-BetterMentalHealth200.jpg
END:VEVENT
END:VCALENDAR