BEGIN:VCALENDAR
VERSION:2.0
PRODID:-//Temple Emanu-El - ECPv6.15.18//NONSGML v1.0//EN
CALSCALE:GREGORIAN
METHOD:PUBLISH
X-ORIGINAL-URL:https://teesd.org
X-WR-CALDESC:Events for Temple Emanu-El
REFRESH-INTERVAL;VALUE=DURATION:PT1H
X-Robots-Tag:noindex
X-PUBLISHED-TTL:PT1H
BEGIN:VTIMEZONE
TZID:America/Los_Angeles
BEGIN:DAYLIGHT
TZOFFSETFROM:-0800
TZOFFSETTO:-0700
TZNAME:PDT
DTSTART:20250309T100000
END:DAYLIGHT
BEGIN:STANDARD
TZOFFSETFROM:-0700
TZOFFSETTO:-0800
TZNAME:PST
DTSTART:20251102T090000
END:STANDARD
BEGIN:DAYLIGHT
TZOFFSETFROM:-0800
TZOFFSETTO:-0700
TZNAME:PDT
DTSTART:20260308T100000
END:DAYLIGHT
BEGIN:STANDARD
TZOFFSETFROM:-0700
TZOFFSETTO:-0800
TZNAME:PST
DTSTART:20261101T090000
END:STANDARD
BEGIN:DAYLIGHT
TZOFFSETFROM:-0800
TZOFFSETTO:-0700
TZNAME:PDT
DTSTART:20270314T100000
END:DAYLIGHT
BEGIN:STANDARD
TZOFFSETFROM:-0700
TZOFFSETTO:-0800
TZNAME:PST
DTSTART:20271107T090000
END:STANDARD
END:VTIMEZONE
BEGIN:VTIMEZONE
TZID:UTC
BEGIN:STANDARD
TZOFFSETFROM:+0000
TZOFFSETTO:+0000
TZNAME:UTC
DTSTART:20250101T000000
END:STANDARD
END:VTIMEZONE
BEGIN:VEVENT
DTSTART;TZID=America/Los_Angeles:20260320T180000
DTEND;TZID=America/Los_Angeles:20260320T190000
DTSTAMP:20260419T131610
CREATED:20250819T155553Z
LAST-MODIFIED:20260411T194159Z
UID:10002490-1774029600-1774033200@teesd.org
SUMMARY:Shabbat Service
DESCRIPTION:
URL:https://teesd.org/event/shabbat-service-friday-2/2026-03-20/
LOCATION:Temple Emanu-El San Diego\, 6299 Capri Drive\, San Diego\, CA\, 92120-4632\, United States
ATTACH;FMTTYPE=image/jpeg:https://teesd.org/wp-content/uploads/2024/08/TempleEmanu-El20of70.jpg
ORGANIZER;CN="Temple Emanu-EL San Diego":MAILTO:temple@teesd.org
END:VEVENT
BEGIN:VEVENT
DTSTART;TZID=UTC:20260321T090000
DTEND;TZID=UTC:20260321T100000
DTSTAMP:20260419T131610
CREATED:20240830T200537Z
LAST-MODIFIED:20260331T195510Z
UID:10001739-1774083600-1774087200@teesd.org
SUMMARY:Torah Study
DESCRIPTION:Join in person or zoom for Torah Study in the Temple Library before Saturday Shabbat Service.
URL:https://teesd.org/event/torah-study/2026-03-21/
LOCATION:Temple Emanu-El San Diego\, 6299 Capri Drive\, San Diego\, CA\, 92120-4632\, United States
ATTACH;FMTTYPE=image/webp:https://teesd.org/wp-content/uploads/2024/07/Torah-Study-Group.webp
ORGANIZER;CN="Temple Emanu-EL San Diego":MAILTO:temple@teesd.org
END:VEVENT
BEGIN:VEVENT
DTSTART;TZID=UTC:20260321T103000
DTEND;TZID=UTC:20260321T120000
DTSTAMP:20260419T131610
CREATED:20240830T202055Z
LAST-MODIFIED:20260330T183917Z
UID:10001998-1774089000-1774094400@teesd.org
SUMMARY:Shabbat Morning Service
DESCRIPTION:
URL:https://teesd.org/event/shabbat-morning-service/2026-03-21/
LOCATION:Temple Emanu-El San Diego\, 6299 Capri Drive\, San Diego\, CA\, 92120-4632\, United States
ATTACH;FMTTYPE=image/webp:https://teesd.org/wp-content/uploads/2024/05/shabbat-morning-service-v-1.webp
ORGANIZER;CN="Temple Emanu-EL San Diego":MAILTO:temple@teesd.org
END:VEVENT
BEGIN:VEVENT
DTSTART;TZID=UTC:20260322T140000
DTEND;TZID=UTC:20260322T150000
DTSTAMP:20260419T131610
CREATED:20260107T205051Z
LAST-MODIFIED:20260218T161148Z
UID:10004844-1774188000-1774191600@teesd.org
SUMMARY:Adult Beginning Hebrew
DESCRIPTION:Learn to read and write Hebrew in just 10 sessions! Beginning Hebrew will meet on Sundays from 2-3 PM on the following dates: \n\n\nJanuary 25\nFebruary 1\nFebruary 8\nFebruary 22\nMarch 8\nMarch 15\nApril 12\nApril 19\nApril 26\nMay 3\n\n\nIntermediate Hebrew will begin in Fall 2026 and Advanced Hebrew will be offered in Spring 2027\, culminating in the opportunity to enroll in the Adult B’nei Mitzvah class in Fall 2027. \n\n\nFor any questions contact music@teesd.org.
URL:https://teesd.org/event/adult-beginning-hebrew/2026-03-22/
LOCATION:Temple Emanu-El San Diego\, 6299 Capri Drive\, San Diego\, CA\, 92120-4632\, United States
ATTACH;FMTTYPE=application/pdf:https://teesd.org/wp-content/uploads/2026/01/Adult-Beginning-Hebrew-2026_QR-1.pdf
ORGANIZER;CN="Temple Emanu-EL San Diego":MAILTO:temple@teesd.org
END:VEVENT
BEGIN:VEVENT
DTSTART;TZID=UTC:20260323T133000
DTEND;TZID=UTC:20260323T160000
DTSTAMP:20260419T131610
CREATED:20240830T225043Z
LAST-MODIFIED:20251223T213818Z
UID:10002744-1774272600-1774281600@teesd.org
SUMMARY:Mah Jong
DESCRIPTION:Come join the Sisterhood in the Temple Sanctuary to play Mah Jong.
URL:https://teesd.org/event/mah-jong/2026-03-23/
LOCATION:Temple Emanu-El San Diego\, 6299 Capri Drive\, San Diego\, CA\, 92120-4632\, United States
ATTACH;FMTTYPE=image/jpeg:https://teesd.org/wp-content/uploads/2024/08/Mah-Jong-1.jpg
ORGANIZER;CN="Temple Emanu-EL San Diego":MAILTO:temple@teesd.org
END:VEVENT
BEGIN:VEVENT
DTSTART;TZID=UTC:20260324T110000
DTEND;TZID=UTC:20260324T130000
DTSTAMP:20260419T131610
CREATED:20260305T231639Z
LAST-MODIFIED:20260305T231639Z
UID:10004854-1774350000-1774357200@teesd.org
SUMMARY:Movie Matinees with Andy Friedenberg
DESCRIPTION:Movie Matinees with Andy Friedenberg \nTuesdays at 11 am at Temple Emanu-El \n\nMarch 24 – THE SONG OF NAMES\nMay 19 – FAREWELL MR. HAFFMANN\nJune 23 – NEVER ALONE\nJuly 21 – LIFE IS BEAUTIFUL\n\nJoin temple member Andy Friedenberg\, a member of the Academy of Motion Picture Arts & Sciences\, for cinematic journey of Jewish stories based in Europe during the mid-1900s. Andy will a lead discussion after the screening. \nRegister HERE. \nThe cost is $20 for the series. Popcorn and beverages included.
URL:https://teesd.org/event/movie-matinees-with-andy-friedenberg/2026-03-24/
LOCATION:Temple Emanu-El San Diego\, 6299 Capri Drive\, San Diego\, CA\, 92120-4632\, United States
ATTACH;FMTTYPE=application/pdf:https://teesd.org/wp-content/uploads/2026/03/Movie-Matinee-2026_Flyer-3.pdf
ORGANIZER;CN="Temple Emanu-EL San Diego":MAILTO:temple@teesd.org
END:VEVENT
BEGIN:VEVENT
DTSTART;TZID=America/Los_Angeles:20260325T110000
DTEND;TZID=America/Los_Angeles:20260325T120000
DTSTAMP:20260419T131610
CREATED:20240828T232519Z
LAST-MODIFIED:20260414T170917Z
UID:10003260-1774436400-1774440000@teesd.org
SUMMARY:Coffee with the Rabbi
DESCRIPTION:Come join Rabbi Devorah for coffee and discussion\, either in person at the Temple library or on zoom.
URL:https://teesd.org/event/coffee-with-the-rabbi/2026-03-25/
LOCATION:Temple Emanu-El San Diego\, 6299 Capri Drive\, San Diego\, CA\, 92120-4632\, United States
ATTACH;FMTTYPE=image/jpeg:https://teesd.org/wp-content/uploads/2024/01/pexels-lood-goosen-1235706-b.jpg
ORGANIZER;CN="Temple Emanu-EL San Diego":MAILTO:temple@teesd.org
END:VEVENT
BEGIN:VEVENT
DTSTART;TZID=UTC:20260325T181500
DTEND;TZID=UTC:20260325T200000
DTSTAMP:20260419T131610
CREATED:20260227T225929Z
LAST-MODIFIED:20260227T225929Z
UID:10004852-1774462500-1774468800@teesd.org
SUMMARY:Taste of Passover by the Women of Reform Judaism
DESCRIPTION:Taste of Passover\nWednesday\, March 25 at 6:15 pm\nTemple Emanu-El Social Hall \nRSVP to: WRJteesd@gmail.com before March 15th \nLearn\nWhat are the 5 foods you cannot eat during Passover? How do Askenazic and Sephardic customs differ? What does it mean to build a fence around Torah? \nTaste\nPlease bring your favorite Passover dish to share. We will taste different foods. If you are bringing a dish\, send your recipe to Nancy (n_marcus@aol.com) by March 15th\, so you can take home a recipe book to try out during Passover. \nDetails\nCost: No Charge if you bring a dish to share.   Just      tasting: $10.00 per person \nWhat to bring ideas: charoset\, matzoh lasagna\, matzoh kishka\, veggies\, desserts\, fruit dishes\, your specialties! \nNo canned macaroons
URL:https://teesd.org/event/taste-of-passover-by-the-women-of-reform-judaism/
LOCATION:Temple Emanu-El San Diego\, 6299 Capri Drive\, San Diego\, CA\, 92120-4632\, United States
ATTACH;FMTTYPE=application/pdf:https://teesd.org/wp-content/uploads/2026/02/WRJ-Taste-of-Passover.pdf
ORGANIZER;CN="Temple Emanu-EL San Diego":MAILTO:temple@teesd.org
END:VEVENT
BEGIN:VEVENT
DTSTART;TZID=America/Los_Angeles:20260326T100000
DTEND;TZID=America/Los_Angeles:20260326T110000
DTSTAMP:20260419T131610
CREATED:20251015T173550Z
LAST-MODIFIED:20251015T174135Z
UID:10000964-1774519200-1774522800@teesd.org
SUMMARY:Recovery International
DESCRIPTION:Recovery International will meet in the Social Hall.
URL:https://teesd.org/event/recovery-international-2/2026-03-26/
LOCATION:Temple Emanu-El San Diego\, 6299 Capri Drive\, San Diego\, CA\, 92120-4632\, United States
ATTACH;FMTTYPE=image/jpeg:https://teesd.org/wp-content/uploads/2024/08/cropped-BetterMentalHealth200.jpg
END:VEVENT
BEGIN:VEVENT
DTSTART;TZID=UTC:20260326T113000
DTEND;TZID=UTC:20260326T130000
DTSTAMP:20260419T131610
CREATED:20260128T194340Z
LAST-MODIFIED:20260305T230226Z
UID:10004837-1774524600-1774530000@teesd.org
SUMMARY:Striving to be Human
DESCRIPTION:Striving to be Human\nLunch and Learn with Rabbi Lawson\nTemple Emanu-El \nClass meets on Thursdays from 11:30 am – 1 pm \n\nMarch 5 (Canceled – To be rescheduled)\nMarch 12\nMarch 19\nMarch 26\nApril 16\nApril 23\nApril 30\n\n\nPack a lunch and talk together about Jewish prospective on 21st Century challenges. Each week\, wrestle with challenges within us and beyond us\, discussing varied topics like: is moral justice at the core of humanity; choosing between good and evil; a look at Queer Jewish theology; was the world created for my sake; beyond the beginning and end of life; can A.I. develop a soul; and tensions between the good and the perfect.\ \nRequired text: “Striving to Be Human: Jewish Perspectives on Twenty-First-Century Challenges” by Rabbi Leah Cohen Tenenbaum and Rabbi Douglas Kohn (CCAR Press) is available in hard copy and on Kindle. \nCost is $35 for the series. \n\nRegister HERE.
URL:https://teesd.org/event/striving-to-be-human/2026-03-26/
LOCATION:Temple Emanu-El San Diego\, 6299 Capri Drive\, San Diego\, CA\, 92120-4632\, United States
ATTACH;FMTTYPE=application/pdf:https://teesd.org/wp-content/uploads/2026/01/Striving-to-be-Human-No-March-5.pdf
ORGANIZER;CN="Temple Emanu-EL San Diego":MAILTO:temple@teesd.org
END:VEVENT
BEGIN:VEVENT
DTSTART;TZID=America/Los_Angeles:20260326T123000
DTEND;TZID=America/Los_Angeles:20260326T140000
DTSTAMP:20260419T131610
CREATED:20240829T175122Z
LAST-MODIFIED:20260106T173306Z
UID:10001222-1774528200-1774533600@teesd.org
SUMMARY:Bridge with Benj
DESCRIPTION:Come play bridge with Rabbi Benj in the Temple Sanctuary.
URL:https://teesd.org/event/bridge-with-benj/2026-03-26/
LOCATION:Temple Emanu-El San Diego\, 6299 Capri Drive\, San Diego\, CA\, 92120-4632\, United States
ATTACH;FMTTYPE=image/jpeg:https://teesd.org/wp-content/uploads/2024/08/bridge.jpg
ORGANIZER;CN="Temple Emanu-EL San Diego":MAILTO:temple@teesd.org
END:VEVENT
BEGIN:VEVENT
DTSTART;TZID=America/Los_Angeles:20260327T180000
DTEND;TZID=America/Los_Angeles:20260327T190000
DTSTAMP:20260419T131610
CREATED:20250819T155553Z
LAST-MODIFIED:20260411T194159Z
UID:10002491-1774634400-1774638000@teesd.org
SUMMARY:Shabbat Service
DESCRIPTION:
URL:https://teesd.org/event/shabbat-service-friday-2/2026-03-27/
LOCATION:Temple Emanu-El San Diego\, 6299 Capri Drive\, San Diego\, CA\, 92120-4632\, United States
ATTACH;FMTTYPE=image/jpeg:https://teesd.org/wp-content/uploads/2024/08/TempleEmanu-El20of70.jpg
ORGANIZER;CN="Temple Emanu-EL San Diego":MAILTO:temple@teesd.org
END:VEVENT
BEGIN:VEVENT
DTSTART;TZID=UTC:20260328T090000
DTEND;TZID=UTC:20260328T100000
DTSTAMP:20260419T131610
CREATED:20240830T200537Z
LAST-MODIFIED:20260331T195510Z
UID:10001740-1774688400-1774692000@teesd.org
SUMMARY:Torah Study
DESCRIPTION:Join in person or zoom for Torah Study in the Temple Library before Saturday Shabbat Service.
URL:https://teesd.org/event/torah-study/2026-03-28/
LOCATION:Temple Emanu-El San Diego\, 6299 Capri Drive\, San Diego\, CA\, 92120-4632\, United States
ATTACH;FMTTYPE=image/webp:https://teesd.org/wp-content/uploads/2024/07/Torah-Study-Group.webp
ORGANIZER;CN="Temple Emanu-EL San Diego":MAILTO:temple@teesd.org
END:VEVENT
BEGIN:VEVENT
DTSTART;TZID=UTC:20260328T103000
DTEND;TZID=UTC:20260328T120000
DTSTAMP:20260419T131610
CREATED:20240830T202055Z
LAST-MODIFIED:20260330T183917Z
UID:10001999-1774693800-1774699200@teesd.org
SUMMARY:Shabbat Morning Service
DESCRIPTION:
URL:https://teesd.org/event/shabbat-morning-service/2026-03-28/
LOCATION:Temple Emanu-El San Diego\, 6299 Capri Drive\, San Diego\, CA\, 92120-4632\, United States
ATTACH;FMTTYPE=image/webp:https://teesd.org/wp-content/uploads/2024/05/shabbat-morning-service-v-1.webp
ORGANIZER;CN="Temple Emanu-EL San Diego":MAILTO:temple@teesd.org
END:VEVENT
BEGIN:VEVENT
DTSTART;TZID=UTC:20260329T100000
DTEND;TZID=UTC:20260329T113000
DTSTAMP:20260419T131610
CREATED:20260305T231056Z
LAST-MODIFIED:20260305T231056Z
UID:10004853-1774778400-1774783800@teesd.org
SUMMARY:Israel Talk with Don Mendel
DESCRIPTION:Israel Talk with Don Mendel presented by the Israel Committee \nSunday\, March 29 at 10 -11:30 am at Temple Emanu-El \nDon Mendel\, 73\, is a retired lawyer\, husband\, father\, and grandfather. Don spent 14 years living in Israel\, all on Kibbutz Gal’on. He is a dual American- Israeli citizen\, fluent Hebrew speaker and served in the IDF. Don maintains a large network of close relationships in Israel spanning over 50 years and nurtured by frequent visits to Israel and hosting Israeli friends in California. \nDon volunteered in the Gaza Envelope on Kibbutz Nakhal Oz shortly after October 7th and recently returned from a month long stay in Israel where he also volunteered on Nakhal Oz. Don will share his up-close experiences and observations on Israel in the aftermath of two years of war\, the resettlement of the Gaza Envelope and the key topics shaping the current political landscape. \nThe event is $5; registration is required. Brunch will be provided. \nRegister HERE. \n  \n 
URL:https://teesd.org/event/israel-talk-with-don-mendel/
LOCATION:Temple Emanu-El San Diego\, 6299 Capri Drive\, San Diego\, CA\, 92120-4632\, United States
ATTACH;FMTTYPE=application/pdf:https://teesd.org/wp-content/uploads/2026/03/Don-Mendel-Talk_DM-Edits-2.pdf
ORGANIZER;CN="Temple Emanu-EL San Diego":MAILTO:temple@teesd.org
END:VEVENT
BEGIN:VEVENT
DTSTART;TZID=UTC:20260329T140000
DTEND;TZID=UTC:20260329T150000
DTSTAMP:20260419T131610
CREATED:20260107T205051Z
LAST-MODIFIED:20260218T161148Z
UID:10004845-1774792800-1774796400@teesd.org
SUMMARY:Adult Beginning Hebrew
DESCRIPTION:Learn to read and write Hebrew in just 10 sessions! Beginning Hebrew will meet on Sundays from 2-3 PM on the following dates: \n\n\nJanuary 25\nFebruary 1\nFebruary 8\nFebruary 22\nMarch 8\nMarch 15\nApril 12\nApril 19\nApril 26\nMay 3\n\n\nIntermediate Hebrew will begin in Fall 2026 and Advanced Hebrew will be offered in Spring 2027\, culminating in the opportunity to enroll in the Adult B’nei Mitzvah class in Fall 2027. \n\n\nFor any questions contact music@teesd.org.
URL:https://teesd.org/event/adult-beginning-hebrew/2026-03-29/
LOCATION:Temple Emanu-El San Diego\, 6299 Capri Drive\, San Diego\, CA\, 92120-4632\, United States
ATTACH;FMTTYPE=application/pdf:https://teesd.org/wp-content/uploads/2026/01/Adult-Beginning-Hebrew-2026_QR-1.pdf
ORGANIZER;CN="Temple Emanu-EL San Diego":MAILTO:temple@teesd.org
END:VEVENT
BEGIN:VEVENT
DTSTART;TZID=UTC:20260330T133000
DTEND;TZID=UTC:20260330T160000
DTSTAMP:20260419T131610
CREATED:20240830T225043Z
LAST-MODIFIED:20251223T213818Z
UID:10002745-1774877400-1774886400@teesd.org
SUMMARY:Mah Jong
DESCRIPTION:Come join the Sisterhood in the Temple Sanctuary to play Mah Jong.
URL:https://teesd.org/event/mah-jong/2026-03-30/
LOCATION:Temple Emanu-El San Diego\, 6299 Capri Drive\, San Diego\, CA\, 92120-4632\, United States
ATTACH;FMTTYPE=image/jpeg:https://teesd.org/wp-content/uploads/2024/08/Mah-Jong-1.jpg
ORGANIZER;CN="Temple Emanu-EL San Diego":MAILTO:temple@teesd.org
END:VEVENT
BEGIN:VEVENT
DTSTART;TZID=UTC:20260331T103000
DTEND;TZID=UTC:20260331T120000
DTSTAMP:20260419T131610
CREATED:20251223T173318Z
LAST-MODIFIED:20251223T173318Z
UID:10004750-1774953000-1774958400@teesd.org
SUMMARY:Wisdom of Aging
DESCRIPTION:Aging well is not just a biological process; it’s a journey that unfolds with its own set of joys and challenges. \nThis program is designed to give participants the tools to live meaningful and productive lives while coping with the unavoidable stresses of aging. Participants will have the opportunity to share their perspectives with each other while engaging in meaningful conversations. \nWe will discuss:\nResilience\nThe power of experience\nThe importance of connection\, compassion and community\nLiving with uncertainty\nCelebrating our wisdom\nTransitions\nand much more…. \nWhen people come together in groups and speak from the heart they discover common threads\, similar concerns\, and shared longings. \nJoin us as we walk the journey of aging together. \nWhen:            Last Tuesday of Every Month from 10:30 AM to 12:00 PM\nJanuary through June 2026\nJanuary 27\, February 24\, March 31\, April 28\, May 26 and June 30\nWhere:           Temple Emanu-El – 6299 Capri Drive\, San Diego\, 92120\nLed by:           Arlene Miller\, creator of the Mi Shebeirach Tapestry\, and Gail Braverman\, Marriage & Family Therapist\nCost:               $30 for the series \nRegister HERE.
URL:https://teesd.org/event/wisdom-of-aging-2/2026-03-31/
LOCATION:Temple Emanu-El San Diego\, 6299 Capri Drive\, San Diego\, CA\, 92120-4632\, United States
ATTACH;FMTTYPE=application/pdf:https://teesd.org/wp-content/uploads/2025/12/The-Wisdom-of-Aging-2026_QR.pdf
ORGANIZER;CN="Temple Emanu-EL San Diego":MAILTO:temple@teesd.org
END:VEVENT
BEGIN:VEVENT
DTSTART;TZID=America/Los_Angeles:20260402T100000
DTEND;TZID=America/Los_Angeles:20260402T110000
DTSTAMP:20260419T131610
CREATED:20251015T173550Z
LAST-MODIFIED:20251015T174135Z
UID:10000965-1775124000-1775127600@teesd.org
SUMMARY:Recovery International
DESCRIPTION:Recovery International will meet in the Social Hall.
URL:https://teesd.org/event/recovery-international-2/2026-04-02/
LOCATION:Temple Emanu-El San Diego\, 6299 Capri Drive\, San Diego\, CA\, 92120-4632\, United States
ATTACH;FMTTYPE=image/jpeg:https://teesd.org/wp-content/uploads/2024/08/cropped-BetterMentalHealth200.jpg
END:VEVENT
BEGIN:VEVENT
DTSTART;TZID=UTC:20260402T100000
DTEND;TZID=UTC:20260402T110000
DTSTAMP:20260419T131610
CREATED:20260325T201747Z
LAST-MODIFIED:20260325T201747Z
UID:10004956-1775124000-1775127600@teesd.org
SUMMARY:Passover Festival Text Study and Brief Service
DESCRIPTION:
URL:https://teesd.org/event/passover-festival-text-study-and-brief-service/
LOCATION:Temple Emanu-El San Diego\, 6299 Capri Drive\, San Diego\, CA\, 92120-4632\, United States
ATTACH;FMTTYPE=application/pdf:https://teesd.org/wp-content/uploads/2026/03/Passover-Festival-Services.pdf
ORGANIZER;CN="Temple Emanu-EL San Diego":MAILTO:temple@teesd.org
END:VEVENT
BEGIN:VEVENT
DTSTART;TZID=America/Los_Angeles:20260402T123000
DTEND;TZID=America/Los_Angeles:20260402T140000
DTSTAMP:20260419T131610
CREATED:20240829T175122Z
LAST-MODIFIED:20260106T173306Z
UID:10001223-1775133000-1775138400@teesd.org
SUMMARY:Bridge with Benj
DESCRIPTION:Come play bridge with Rabbi Benj in the Temple Sanctuary.
URL:https://teesd.org/event/bridge-with-benj/2026-04-02/
LOCATION:Temple Emanu-El San Diego\, 6299 Capri Drive\, San Diego\, CA\, 92120-4632\, United States
ATTACH;FMTTYPE=image/jpeg:https://teesd.org/wp-content/uploads/2024/08/bridge.jpg
ORGANIZER;CN="Temple Emanu-EL San Diego":MAILTO:temple@teesd.org
END:VEVENT
BEGIN:VEVENT
DTSTART;TZID=America/Los_Angeles:20260403T180000
DTEND;TZID=America/Los_Angeles:20260403T190000
DTSTAMP:20260419T131610
CREATED:20250819T155553Z
LAST-MODIFIED:20260411T194159Z
UID:10002492-1775239200-1775242800@teesd.org
SUMMARY:Shabbat Service
DESCRIPTION:
URL:https://teesd.org/event/shabbat-service-friday-2/2026-04-03/
LOCATION:Temple Emanu-El San Diego\, 6299 Capri Drive\, San Diego\, CA\, 92120-4632\, United States
ATTACH;FMTTYPE=image/jpeg:https://teesd.org/wp-content/uploads/2024/08/TempleEmanu-El20of70.jpg
ORGANIZER;CN="Temple Emanu-EL San Diego":MAILTO:temple@teesd.org
END:VEVENT
BEGIN:VEVENT
DTSTART;TZID=UTC:20260404T100000
DTEND;TZID=UTC:20260404T120000
DTSTAMP:20260419T131610
CREATED:20251017T164140Z
LAST-MODIFIED:20260330T183632Z
UID:10004675-1775296800-1775304000@teesd.org
SUMMARY:Congregational Seder Brunch
DESCRIPTION:Congregational Seder Brunch\nJoin us for our annual Congregational Passover Seder with brunch and music from our temple band. \n\n\n\n\n\n\nRegister HERE.
URL:https://teesd.org/event/congregational-seder-2/
LOCATION:Temple Emanu-El San Diego\, 6299 Capri Drive\, San Diego\, CA\, 92120-4632\, United States
ATTACH;FMTTYPE=application/pdf:https://teesd.org/wp-content/uploads/2025/10/2026-Congregational-Seder-Brunch.v2.pdf
ORGANIZER;CN="Temple Emanu-EL San Diego":MAILTO:temple@teesd.org
END:VEVENT
BEGIN:VEVENT
DTSTART;TZID=UTC:20260405T100000
DTEND;TZID=UTC:20260405T120000
DTSTAMP:20260419T131610
CREATED:20260401T011042Z
LAST-MODIFIED:20260401T011057Z
UID:10005573-1775383200-1775390400@teesd.org
SUMMARY:Torah School Family Seder
DESCRIPTION:
URL:https://teesd.org/event/torah-school-seder/
LOCATION:Temple Emanu-El San Diego\, 6299 Capri Drive\, San Diego\, CA\, 92120-4632\, United States
ORGANIZER;CN="Temple Emanu-EL San Diego":MAILTO:temple@teesd.org
END:VEVENT
BEGIN:VEVENT
DTSTART;TZID=UTC:20260405T140000
DTEND;TZID=UTC:20260405T150000
DTSTAMP:20260419T131610
CREATED:20260107T205051Z
LAST-MODIFIED:20260218T161148Z
UID:10004846-1775397600-1775401200@teesd.org
SUMMARY:Adult Beginning Hebrew
DESCRIPTION:Learn to read and write Hebrew in just 10 sessions! Beginning Hebrew will meet on Sundays from 2-3 PM on the following dates: \n\n\nJanuary 25\nFebruary 1\nFebruary 8\nFebruary 22\nMarch 8\nMarch 15\nApril 12\nApril 19\nApril 26\nMay 3\n\n\nIntermediate Hebrew will begin in Fall 2026 and Advanced Hebrew will be offered in Spring 2027\, culminating in the opportunity to enroll in the Adult B’nei Mitzvah class in Fall 2027. \n\n\nFor any questions contact music@teesd.org.
URL:https://teesd.org/event/adult-beginning-hebrew/2026-04-05/
LOCATION:Temple Emanu-El San Diego\, 6299 Capri Drive\, San Diego\, CA\, 92120-4632\, United States
ATTACH;FMTTYPE=application/pdf:https://teesd.org/wp-content/uploads/2026/01/Adult-Beginning-Hebrew-2026_QR-1.pdf
ORGANIZER;CN="Temple Emanu-EL San Diego":MAILTO:temple@teesd.org
END:VEVENT
BEGIN:VEVENT
DTSTART;TZID=UTC:20260406T133000
DTEND;TZID=UTC:20260406T160000
DTSTAMP:20260419T131610
CREATED:20240830T225043Z
LAST-MODIFIED:20251223T213818Z
UID:10002746-1775482200-1775491200@teesd.org
SUMMARY:Mah Jong
DESCRIPTION:Come join the Sisterhood in the Temple Sanctuary to play Mah Jong.
URL:https://teesd.org/event/mah-jong/2026-04-06/
LOCATION:Temple Emanu-El San Diego\, 6299 Capri Drive\, San Diego\, CA\, 92120-4632\, United States
ATTACH;FMTTYPE=image/jpeg:https://teesd.org/wp-content/uploads/2024/08/Mah-Jong-1.jpg
ORGANIZER;CN="Temple Emanu-EL San Diego":MAILTO:temple@teesd.org
END:VEVENT
BEGIN:VEVENT
DTSTART;TZID=UTC:20260408T100000
DTEND;TZID=UTC:20260408T110000
DTSTAMP:20260419T131610
CREATED:20260325T201916Z
LAST-MODIFIED:20260325T201916Z
UID:10004957-1775642400-1775646000@teesd.org
SUMMARY:Passover Yizkor Study and Memorial Prayer
DESCRIPTION:
URL:https://teesd.org/event/passover-yizkor-study-and-memorial-prayer/
LOCATION:Temple Emanu-El San Diego\, 6299 Capri Drive\, San Diego\, CA\, 92120-4632\, United States
ATTACH;FMTTYPE=application/pdf:https://teesd.org/wp-content/uploads/2026/03/Passover-Festival-Services-1.pdf
ORGANIZER;CN="Temple Emanu-EL San Diego":MAILTO:temple@teesd.org
END:VEVENT
BEGIN:VEVENT
DTSTART;TZID=America/Los_Angeles:20260409T100000
DTEND;TZID=America/Los_Angeles:20260409T110000
DTSTAMP:20260419T131610
CREATED:20251015T173550Z
LAST-MODIFIED:20251015T174135Z
UID:10000966-1775728800-1775732400@teesd.org
SUMMARY:Recovery International
DESCRIPTION:Recovery International will meet in the Social Hall.
URL:https://teesd.org/event/recovery-international-2/2026-04-09/
LOCATION:Temple Emanu-El San Diego\, 6299 Capri Drive\, San Diego\, CA\, 92120-4632\, United States
ATTACH;FMTTYPE=image/jpeg:https://teesd.org/wp-content/uploads/2024/08/cropped-BetterMentalHealth200.jpg
END:VEVENT
BEGIN:VEVENT
DTSTART;TZID=America/Los_Angeles:20260409T123000
DTEND;TZID=America/Los_Angeles:20260409T140000
DTSTAMP:20260419T131610
CREATED:20240829T175122Z
LAST-MODIFIED:20260106T173306Z
UID:10001224-1775737800-1775743200@teesd.org
SUMMARY:Bridge with Benj
DESCRIPTION:Come play bridge with Rabbi Benj in the Temple Sanctuary.
URL:https://teesd.org/event/bridge-with-benj/2026-04-09/
LOCATION:Temple Emanu-El San Diego\, 6299 Capri Drive\, San Diego\, CA\, 92120-4632\, United States
ATTACH;FMTTYPE=image/jpeg:https://teesd.org/wp-content/uploads/2024/08/bridge.jpg
ORGANIZER;CN="Temple Emanu-EL San Diego":MAILTO:temple@teesd.org
END:VEVENT
BEGIN:VEVENT
DTSTART;TZID=America/Los_Angeles:20260410T180000
DTEND;TZID=America/Los_Angeles:20260410T190000
DTSTAMP:20260419T131610
CREATED:20250819T155553Z
LAST-MODIFIED:20260411T194159Z
UID:10002493-1775844000-1775847600@teesd.org
SUMMARY:Shabbat Service
DESCRIPTION:
URL:https://teesd.org/event/shabbat-service-friday-2/2026-04-10/
LOCATION:Temple Emanu-El San Diego\, 6299 Capri Drive\, San Diego\, CA\, 92120-4632\, United States
ATTACH;FMTTYPE=image/jpeg:https://teesd.org/wp-content/uploads/2024/08/TempleEmanu-El20of70.jpg
ORGANIZER;CN="Temple Emanu-EL San Diego":MAILTO:temple@teesd.org
END:VEVENT
END:VCALENDAR