BEGIN:VCALENDAR
VERSION:2.0
PRODID:-//Temple Emanu-El - ECPv6.15.18//NONSGML v1.0//EN
CALSCALE:GREGORIAN
METHOD:PUBLISH
X-WR-CALNAME:Temple Emanu-El
X-ORIGINAL-URL:https://teesd.org
X-WR-CALDESC:Events for Temple Emanu-El
REFRESH-INTERVAL;VALUE=DURATION:PT1H
X-Robots-Tag:noindex
X-PUBLISHED-TTL:PT1H
BEGIN:VTIMEZONE
TZID:America/Los_Angeles
BEGIN:DAYLIGHT
TZOFFSETFROM:-0800
TZOFFSETTO:-0700
TZNAME:PDT
DTSTART:20250309T100000
END:DAYLIGHT
BEGIN:STANDARD
TZOFFSETFROM:-0700
TZOFFSETTO:-0800
TZNAME:PST
DTSTART:20251102T090000
END:STANDARD
BEGIN:DAYLIGHT
TZOFFSETFROM:-0800
TZOFFSETTO:-0700
TZNAME:PDT
DTSTART:20260308T100000
END:DAYLIGHT
BEGIN:STANDARD
TZOFFSETFROM:-0700
TZOFFSETTO:-0800
TZNAME:PST
DTSTART:20261101T090000
END:STANDARD
BEGIN:DAYLIGHT
TZOFFSETFROM:-0800
TZOFFSETTO:-0700
TZNAME:PDT
DTSTART:20270314T100000
END:DAYLIGHT
BEGIN:STANDARD
TZOFFSETFROM:-0700
TZOFFSETTO:-0800
TZNAME:PST
DTSTART:20271107T090000
END:STANDARD
END:VTIMEZONE
BEGIN:VEVENT
DTSTART;TZID=America/Los_Angeles:20260423T123000
DTEND;TZID=America/Los_Angeles:20260423T140000
DTSTAMP:20260421T153432
CREATED:20240829T175122Z
LAST-MODIFIED:20260106T173306Z
UID:10001226-1776947400-1776952800@teesd.org
SUMMARY:Bridge with Benj
DESCRIPTION:Come play bridge with Rabbi Benj in the Temple Sanctuary.
URL:https://teesd.org/event/bridge-with-benj/2026-04-23/
LOCATION:Temple Emanu-El San Diego\, 6299 Capri Drive\, San Diego\, CA\, 92120-4632\, United States
ATTACH;FMTTYPE=image/jpeg:https://teesd.org/wp-content/uploads/2024/08/bridge.jpg
ORGANIZER;CN="Temple Emanu-EL San Diego":MAILTO:temple@teesd.org
END:VEVENT
BEGIN:VEVENT
DTSTART;TZID=America/Los_Angeles:20260430T123000
DTEND;TZID=America/Los_Angeles:20260430T140000
DTSTAMP:20260421T153432
CREATED:20240829T175122Z
LAST-MODIFIED:20260106T173306Z
UID:10001227-1777552200-1777557600@teesd.org
SUMMARY:Bridge with Benj
DESCRIPTION:Come play bridge with Rabbi Benj in the Temple Sanctuary.
URL:https://teesd.org/event/bridge-with-benj/2026-04-30/
LOCATION:Temple Emanu-El San Diego\, 6299 Capri Drive\, San Diego\, CA\, 92120-4632\, United States
ATTACH;FMTTYPE=image/jpeg:https://teesd.org/wp-content/uploads/2024/08/bridge.jpg
ORGANIZER;CN="Temple Emanu-EL San Diego":MAILTO:temple@teesd.org
END:VEVENT
BEGIN:VEVENT
DTSTART;TZID=America/Los_Angeles:20260507T123000
DTEND;TZID=America/Los_Angeles:20260507T140000
DTSTAMP:20260421T153432
CREATED:20240829T175122Z
LAST-MODIFIED:20260106T173306Z
UID:10001228-1778157000-1778162400@teesd.org
SUMMARY:Bridge with Benj
DESCRIPTION:Come play bridge with Rabbi Benj in the Temple Sanctuary.
URL:https://teesd.org/event/bridge-with-benj/2026-05-07/
LOCATION:Temple Emanu-El San Diego\, 6299 Capri Drive\, San Diego\, CA\, 92120-4632\, United States
ATTACH;FMTTYPE=image/jpeg:https://teesd.org/wp-content/uploads/2024/08/bridge.jpg
ORGANIZER;CN="Temple Emanu-EL San Diego":MAILTO:temple@teesd.org
END:VEVENT
BEGIN:VEVENT
DTSTART;TZID=America/Los_Angeles:20260514T123000
DTEND;TZID=America/Los_Angeles:20260514T140000
DTSTAMP:20260421T153432
CREATED:20240829T175122Z
LAST-MODIFIED:20260106T173306Z
UID:10001229-1778761800-1778767200@teesd.org
SUMMARY:Bridge with Benj
DESCRIPTION:Come play bridge with Rabbi Benj in the Temple Sanctuary.
URL:https://teesd.org/event/bridge-with-benj/2026-05-14/
LOCATION:Temple Emanu-El San Diego\, 6299 Capri Drive\, San Diego\, CA\, 92120-4632\, United States
ATTACH;FMTTYPE=image/jpeg:https://teesd.org/wp-content/uploads/2024/08/bridge.jpg
ORGANIZER;CN="Temple Emanu-EL San Diego":MAILTO:temple@teesd.org
END:VEVENT
BEGIN:VEVENT
DTSTART;TZID=America/Los_Angeles:20260521T123000
DTEND;TZID=America/Los_Angeles:20260521T140000
DTSTAMP:20260421T153432
CREATED:20240829T175122Z
LAST-MODIFIED:20260106T173306Z
UID:10001230-1779366600-1779372000@teesd.org
SUMMARY:Bridge with Benj
DESCRIPTION:Come play bridge with Rabbi Benj in the Temple Sanctuary.
URL:https://teesd.org/event/bridge-with-benj/2026-05-21/
LOCATION:Temple Emanu-El San Diego\, 6299 Capri Drive\, San Diego\, CA\, 92120-4632\, United States
ATTACH;FMTTYPE=image/jpeg:https://teesd.org/wp-content/uploads/2024/08/bridge.jpg
ORGANIZER;CN="Temple Emanu-EL San Diego":MAILTO:temple@teesd.org
END:VEVENT
BEGIN:VEVENT
DTSTART;TZID=America/Los_Angeles:20260528T123000
DTEND;TZID=America/Los_Angeles:20260528T140000
DTSTAMP:20260421T153432
CREATED:20240829T175122Z
LAST-MODIFIED:20260106T173306Z
UID:10001231-1779971400-1779976800@teesd.org
SUMMARY:Bridge with Benj
DESCRIPTION:Come play bridge with Rabbi Benj in the Temple Sanctuary.
URL:https://teesd.org/event/bridge-with-benj/2026-05-28/
LOCATION:Temple Emanu-El San Diego\, 6299 Capri Drive\, San Diego\, CA\, 92120-4632\, United States
ATTACH;FMTTYPE=image/jpeg:https://teesd.org/wp-content/uploads/2024/08/bridge.jpg
ORGANIZER;CN="Temple Emanu-EL San Diego":MAILTO:temple@teesd.org
END:VEVENT
BEGIN:VEVENT
DTSTART;TZID=America/Los_Angeles:20260604T123000
DTEND;TZID=America/Los_Angeles:20260604T140000
DTSTAMP:20260421T153432
CREATED:20240829T175122Z
LAST-MODIFIED:20260106T173306Z
UID:10001232-1780576200-1780581600@teesd.org
SUMMARY:Bridge with Benj
DESCRIPTION:Come play bridge with Rabbi Benj in the Temple Sanctuary.
URL:https://teesd.org/event/bridge-with-benj/2026-06-04/
LOCATION:Temple Emanu-El San Diego\, 6299 Capri Drive\, San Diego\, CA\, 92120-4632\, United States
ATTACH;FMTTYPE=image/jpeg:https://teesd.org/wp-content/uploads/2024/08/bridge.jpg
ORGANIZER;CN="Temple Emanu-EL San Diego":MAILTO:temple@teesd.org
END:VEVENT
BEGIN:VEVENT
DTSTART;TZID=America/Los_Angeles:20260611T123000
DTEND;TZID=America/Los_Angeles:20260611T140000
DTSTAMP:20260421T153432
CREATED:20240829T175122Z
LAST-MODIFIED:20260106T173306Z
UID:10001233-1781181000-1781186400@teesd.org
SUMMARY:Bridge with Benj
DESCRIPTION:Come play bridge with Rabbi Benj in the Temple Sanctuary.
URL:https://teesd.org/event/bridge-with-benj/2026-06-11/
LOCATION:Temple Emanu-El San Diego\, 6299 Capri Drive\, San Diego\, CA\, 92120-4632\, United States
ATTACH;FMTTYPE=image/jpeg:https://teesd.org/wp-content/uploads/2024/08/bridge.jpg
ORGANIZER;CN="Temple Emanu-EL San Diego":MAILTO:temple@teesd.org
END:VEVENT
BEGIN:VEVENT
DTSTART;TZID=America/Los_Angeles:20260618T123000
DTEND;TZID=America/Los_Angeles:20260618T140000
DTSTAMP:20260421T153432
CREATED:20240829T175122Z
LAST-MODIFIED:20260106T173306Z
UID:10001234-1781785800-1781791200@teesd.org
SUMMARY:Bridge with Benj
DESCRIPTION:Come play bridge with Rabbi Benj in the Temple Sanctuary.
URL:https://teesd.org/event/bridge-with-benj/2026-06-18/
LOCATION:Temple Emanu-El San Diego\, 6299 Capri Drive\, San Diego\, CA\, 92120-4632\, United States
ATTACH;FMTTYPE=image/jpeg:https://teesd.org/wp-content/uploads/2024/08/bridge.jpg
ORGANIZER;CN="Temple Emanu-EL San Diego":MAILTO:temple@teesd.org
END:VEVENT
BEGIN:VEVENT
DTSTART;TZID=America/Los_Angeles:20260625T123000
DTEND;TZID=America/Los_Angeles:20260625T140000
DTSTAMP:20260421T153432
CREATED:20240829T175122Z
LAST-MODIFIED:20260106T173306Z
UID:10001235-1782390600-1782396000@teesd.org
SUMMARY:Bridge with Benj
DESCRIPTION:Come play bridge with Rabbi Benj in the Temple Sanctuary.
URL:https://teesd.org/event/bridge-with-benj/2026-06-25/
LOCATION:Temple Emanu-El San Diego\, 6299 Capri Drive\, San Diego\, CA\, 92120-4632\, United States
ATTACH;FMTTYPE=image/jpeg:https://teesd.org/wp-content/uploads/2024/08/bridge.jpg
ORGANIZER;CN="Temple Emanu-EL San Diego":MAILTO:temple@teesd.org
END:VEVENT
BEGIN:VEVENT
DTSTART;TZID=America/Los_Angeles:20260702T123000
DTEND;TZID=America/Los_Angeles:20260702T140000
DTSTAMP:20260421T153432
CREATED:20240829T175122Z
LAST-MODIFIED:20260106T173306Z
UID:10001236-1782995400-1783000800@teesd.org
SUMMARY:Bridge with Benj
DESCRIPTION:Come play bridge with Rabbi Benj in the Temple Sanctuary.
URL:https://teesd.org/event/bridge-with-benj/2026-07-02/
LOCATION:Temple Emanu-El San Diego\, 6299 Capri Drive\, San Diego\, CA\, 92120-4632\, United States
ATTACH;FMTTYPE=image/jpeg:https://teesd.org/wp-content/uploads/2024/08/bridge.jpg
ORGANIZER;CN="Temple Emanu-EL San Diego":MAILTO:temple@teesd.org
END:VEVENT
BEGIN:VEVENT
DTSTART;TZID=America/Los_Angeles:20260709T123000
DTEND;TZID=America/Los_Angeles:20260709T140000
DTSTAMP:20260421T153432
CREATED:20240829T175122Z
LAST-MODIFIED:20260106T173306Z
UID:10001237-1783600200-1783605600@teesd.org
SUMMARY:Bridge with Benj
DESCRIPTION:Come play bridge with Rabbi Benj in the Temple Sanctuary.
URL:https://teesd.org/event/bridge-with-benj/2026-07-09/
LOCATION:Temple Emanu-El San Diego\, 6299 Capri Drive\, San Diego\, CA\, 92120-4632\, United States
ATTACH;FMTTYPE=image/jpeg:https://teesd.org/wp-content/uploads/2024/08/bridge.jpg
ORGANIZER;CN="Temple Emanu-EL San Diego":MAILTO:temple@teesd.org
END:VEVENT
BEGIN:VEVENT
DTSTART;TZID=America/Los_Angeles:20260716T123000
DTEND;TZID=America/Los_Angeles:20260716T140000
DTSTAMP:20260421T153432
CREATED:20240829T175122Z
LAST-MODIFIED:20260106T173306Z
UID:10001238-1784205000-1784210400@teesd.org
SUMMARY:Bridge with Benj
DESCRIPTION:Come play bridge with Rabbi Benj in the Temple Sanctuary.
URL:https://teesd.org/event/bridge-with-benj/2026-07-16/
LOCATION:Temple Emanu-El San Diego\, 6299 Capri Drive\, San Diego\, CA\, 92120-4632\, United States
ATTACH;FMTTYPE=image/jpeg:https://teesd.org/wp-content/uploads/2024/08/bridge.jpg
ORGANIZER;CN="Temple Emanu-EL San Diego":MAILTO:temple@teesd.org
END:VEVENT
BEGIN:VEVENT
DTSTART;TZID=America/Los_Angeles:20260723T123000
DTEND;TZID=America/Los_Angeles:20260723T140000
DTSTAMP:20260421T153432
CREATED:20240829T175122Z
LAST-MODIFIED:20260106T173306Z
UID:10001239-1784809800-1784815200@teesd.org
SUMMARY:Bridge with Benj
DESCRIPTION:Come play bridge with Rabbi Benj in the Temple Sanctuary.
URL:https://teesd.org/event/bridge-with-benj/2026-07-23/
LOCATION:Temple Emanu-El San Diego\, 6299 Capri Drive\, San Diego\, CA\, 92120-4632\, United States
ATTACH;FMTTYPE=image/jpeg:https://teesd.org/wp-content/uploads/2024/08/bridge.jpg
ORGANIZER;CN="Temple Emanu-EL San Diego":MAILTO:temple@teesd.org
END:VEVENT
BEGIN:VEVENT
DTSTART;TZID=America/Los_Angeles:20260730T123000
DTEND;TZID=America/Los_Angeles:20260730T140000
DTSTAMP:20260421T153432
CREATED:20240829T175122Z
LAST-MODIFIED:20260106T173306Z
UID:10001240-1785414600-1785420000@teesd.org
SUMMARY:Bridge with Benj
DESCRIPTION:Come play bridge with Rabbi Benj in the Temple Sanctuary.
URL:https://teesd.org/event/bridge-with-benj/2026-07-30/
LOCATION:Temple Emanu-El San Diego\, 6299 Capri Drive\, San Diego\, CA\, 92120-4632\, United States
ATTACH;FMTTYPE=image/jpeg:https://teesd.org/wp-content/uploads/2024/08/bridge.jpg
ORGANIZER;CN="Temple Emanu-EL San Diego":MAILTO:temple@teesd.org
END:VEVENT
BEGIN:VEVENT
DTSTART;TZID=America/Los_Angeles:20260806T123000
DTEND;TZID=America/Los_Angeles:20260806T140000
DTSTAMP:20260421T153432
CREATED:20240829T175122Z
LAST-MODIFIED:20260106T173306Z
UID:10001241-1786019400-1786024800@teesd.org
SUMMARY:Bridge with Benj
DESCRIPTION:Come play bridge with Rabbi Benj in the Temple Sanctuary.
URL:https://teesd.org/event/bridge-with-benj/2026-08-06/
LOCATION:Temple Emanu-El San Diego\, 6299 Capri Drive\, San Diego\, CA\, 92120-4632\, United States
ATTACH;FMTTYPE=image/jpeg:https://teesd.org/wp-content/uploads/2024/08/bridge.jpg
ORGANIZER;CN="Temple Emanu-EL San Diego":MAILTO:temple@teesd.org
END:VEVENT
BEGIN:VEVENT
DTSTART;TZID=America/Los_Angeles:20260813T123000
DTEND;TZID=America/Los_Angeles:20260813T140000
DTSTAMP:20260421T153432
CREATED:20240829T175122Z
LAST-MODIFIED:20260106T173306Z
UID:10001242-1786624200-1786629600@teesd.org
SUMMARY:Bridge with Benj
DESCRIPTION:Come play bridge with Rabbi Benj in the Temple Sanctuary.
URL:https://teesd.org/event/bridge-with-benj/2026-08-13/
LOCATION:Temple Emanu-El San Diego\, 6299 Capri Drive\, San Diego\, CA\, 92120-4632\, United States
ATTACH;FMTTYPE=image/jpeg:https://teesd.org/wp-content/uploads/2024/08/bridge.jpg
ORGANIZER;CN="Temple Emanu-EL San Diego":MAILTO:temple@teesd.org
END:VEVENT
BEGIN:VEVENT
DTSTART;TZID=America/Los_Angeles:20260820T123000
DTEND;TZID=America/Los_Angeles:20260820T140000
DTSTAMP:20260421T153432
CREATED:20240829T175122Z
LAST-MODIFIED:20260106T173306Z
UID:10001243-1787229000-1787234400@teesd.org
SUMMARY:Bridge with Benj
DESCRIPTION:Come play bridge with Rabbi Benj in the Temple Sanctuary.
URL:https://teesd.org/event/bridge-with-benj/2026-08-20/
LOCATION:Temple Emanu-El San Diego\, 6299 Capri Drive\, San Diego\, CA\, 92120-4632\, United States
ATTACH;FMTTYPE=image/jpeg:https://teesd.org/wp-content/uploads/2024/08/bridge.jpg
ORGANIZER;CN="Temple Emanu-EL San Diego":MAILTO:temple@teesd.org
END:VEVENT
BEGIN:VEVENT
DTSTART;TZID=America/Los_Angeles:20260827T123000
DTEND;TZID=America/Los_Angeles:20260827T140000
DTSTAMP:20260421T153432
CREATED:20240829T175122Z
LAST-MODIFIED:20260106T173306Z
UID:10001244-1787833800-1787839200@teesd.org
SUMMARY:Bridge with Benj
DESCRIPTION:Come play bridge with Rabbi Benj in the Temple Sanctuary.
URL:https://teesd.org/event/bridge-with-benj/2026-08-27/
LOCATION:Temple Emanu-El San Diego\, 6299 Capri Drive\, San Diego\, CA\, 92120-4632\, United States
ATTACH;FMTTYPE=image/jpeg:https://teesd.org/wp-content/uploads/2024/08/bridge.jpg
ORGANIZER;CN="Temple Emanu-EL San Diego":MAILTO:temple@teesd.org
END:VEVENT
BEGIN:VEVENT
DTSTART;TZID=America/Los_Angeles:20260903T123000
DTEND;TZID=America/Los_Angeles:20260903T140000
DTSTAMP:20260421T153432
CREATED:20240829T175122Z
LAST-MODIFIED:20260106T173306Z
UID:10001245-1788438600-1788444000@teesd.org
SUMMARY:Bridge with Benj
DESCRIPTION:Come play bridge with Rabbi Benj in the Temple Sanctuary.
URL:https://teesd.org/event/bridge-with-benj/2026-09-03/
LOCATION:Temple Emanu-El San Diego\, 6299 Capri Drive\, San Diego\, CA\, 92120-4632\, United States
ATTACH;FMTTYPE=image/jpeg:https://teesd.org/wp-content/uploads/2024/08/bridge.jpg
ORGANIZER;CN="Temple Emanu-EL San Diego":MAILTO:temple@teesd.org
END:VEVENT
BEGIN:VEVENT
DTSTART;TZID=America/Los_Angeles:20260910T123000
DTEND;TZID=America/Los_Angeles:20260910T140000
DTSTAMP:20260421T153432
CREATED:20240829T175122Z
LAST-MODIFIED:20260106T173306Z
UID:10001246-1789043400-1789048800@teesd.org
SUMMARY:Bridge with Benj
DESCRIPTION:Come play bridge with Rabbi Benj in the Temple Sanctuary.
URL:https://teesd.org/event/bridge-with-benj/2026-09-10/
LOCATION:Temple Emanu-El San Diego\, 6299 Capri Drive\, San Diego\, CA\, 92120-4632\, United States
ATTACH;FMTTYPE=image/jpeg:https://teesd.org/wp-content/uploads/2024/08/bridge.jpg
ORGANIZER;CN="Temple Emanu-EL San Diego":MAILTO:temple@teesd.org
END:VEVENT
BEGIN:VEVENT
DTSTART;TZID=America/Los_Angeles:20260917T123000
DTEND;TZID=America/Los_Angeles:20260917T140000
DTSTAMP:20260421T153432
CREATED:20240829T175122Z
LAST-MODIFIED:20260106T173306Z
UID:10001247-1789648200-1789653600@teesd.org
SUMMARY:Bridge with Benj
DESCRIPTION:Come play bridge with Rabbi Benj in the Temple Sanctuary.
URL:https://teesd.org/event/bridge-with-benj/2026-09-17/
LOCATION:Temple Emanu-El San Diego\, 6299 Capri Drive\, San Diego\, CA\, 92120-4632\, United States
ATTACH;FMTTYPE=image/jpeg:https://teesd.org/wp-content/uploads/2024/08/bridge.jpg
ORGANIZER;CN="Temple Emanu-EL San Diego":MAILTO:temple@teesd.org
END:VEVENT
BEGIN:VEVENT
DTSTART;TZID=America/Los_Angeles:20260924T123000
DTEND;TZID=America/Los_Angeles:20260924T140000
DTSTAMP:20260421T153432
CREATED:20240829T175122Z
LAST-MODIFIED:20260106T173306Z
UID:10001248-1790253000-1790258400@teesd.org
SUMMARY:Bridge with Benj
DESCRIPTION:Come play bridge with Rabbi Benj in the Temple Sanctuary.
URL:https://teesd.org/event/bridge-with-benj/2026-09-24/
LOCATION:Temple Emanu-El San Diego\, 6299 Capri Drive\, San Diego\, CA\, 92120-4632\, United States
ATTACH;FMTTYPE=image/jpeg:https://teesd.org/wp-content/uploads/2024/08/bridge.jpg
ORGANIZER;CN="Temple Emanu-EL San Diego":MAILTO:temple@teesd.org
END:VEVENT
BEGIN:VEVENT
DTSTART;TZID=America/Los_Angeles:20261001T123000
DTEND;TZID=America/Los_Angeles:20261001T140000
DTSTAMP:20260421T153432
CREATED:20240829T175122Z
LAST-MODIFIED:20260106T173306Z
UID:10001249-1790857800-1790863200@teesd.org
SUMMARY:Bridge with Benj
DESCRIPTION:Come play bridge with Rabbi Benj in the Temple Sanctuary.
URL:https://teesd.org/event/bridge-with-benj/2026-10-01/
LOCATION:Temple Emanu-El San Diego\, 6299 Capri Drive\, San Diego\, CA\, 92120-4632\, United States
ATTACH;FMTTYPE=image/jpeg:https://teesd.org/wp-content/uploads/2024/08/bridge.jpg
ORGANIZER;CN="Temple Emanu-EL San Diego":MAILTO:temple@teesd.org
END:VEVENT
BEGIN:VEVENT
DTSTART;TZID=America/Los_Angeles:20261008T123000
DTEND;TZID=America/Los_Angeles:20261008T140000
DTSTAMP:20260421T153432
CREATED:20240829T175122Z
LAST-MODIFIED:20260106T173306Z
UID:10001250-1791462600-1791468000@teesd.org
SUMMARY:Bridge with Benj
DESCRIPTION:Come play bridge with Rabbi Benj in the Temple Sanctuary.
URL:https://teesd.org/event/bridge-with-benj/2026-10-08/
LOCATION:Temple Emanu-El San Diego\, 6299 Capri Drive\, San Diego\, CA\, 92120-4632\, United States
ATTACH;FMTTYPE=image/jpeg:https://teesd.org/wp-content/uploads/2024/08/bridge.jpg
ORGANIZER;CN="Temple Emanu-EL San Diego":MAILTO:temple@teesd.org
END:VEVENT
BEGIN:VEVENT
DTSTART;TZID=America/Los_Angeles:20261015T123000
DTEND;TZID=America/Los_Angeles:20261015T140000
DTSTAMP:20260421T153432
CREATED:20240829T175122Z
LAST-MODIFIED:20260106T173306Z
UID:10001251-1792067400-1792072800@teesd.org
SUMMARY:Bridge with Benj
DESCRIPTION:Come play bridge with Rabbi Benj in the Temple Sanctuary.
URL:https://teesd.org/event/bridge-with-benj/2026-10-15/
LOCATION:Temple Emanu-El San Diego\, 6299 Capri Drive\, San Diego\, CA\, 92120-4632\, United States
ATTACH;FMTTYPE=image/jpeg:https://teesd.org/wp-content/uploads/2024/08/bridge.jpg
ORGANIZER;CN="Temple Emanu-EL San Diego":MAILTO:temple@teesd.org
END:VEVENT
BEGIN:VEVENT
DTSTART;TZID=America/Los_Angeles:20261022T123000
DTEND;TZID=America/Los_Angeles:20261022T140000
DTSTAMP:20260421T153432
CREATED:20240829T175122Z
LAST-MODIFIED:20260106T173306Z
UID:10001252-1792672200-1792677600@teesd.org
SUMMARY:Bridge with Benj
DESCRIPTION:Come play bridge with Rabbi Benj in the Temple Sanctuary.
URL:https://teesd.org/event/bridge-with-benj/2026-10-22/
LOCATION:Temple Emanu-El San Diego\, 6299 Capri Drive\, San Diego\, CA\, 92120-4632\, United States
ATTACH;FMTTYPE=image/jpeg:https://teesd.org/wp-content/uploads/2024/08/bridge.jpg
ORGANIZER;CN="Temple Emanu-EL San Diego":MAILTO:temple@teesd.org
END:VEVENT
BEGIN:VEVENT
DTSTART;TZID=America/Los_Angeles:20261029T123000
DTEND;TZID=America/Los_Angeles:20261029T140000
DTSTAMP:20260421T153432
CREATED:20240829T175122Z
LAST-MODIFIED:20260106T173306Z
UID:10001253-1793277000-1793282400@teesd.org
SUMMARY:Bridge with Benj
DESCRIPTION:Come play bridge with Rabbi Benj in the Temple Sanctuary.
URL:https://teesd.org/event/bridge-with-benj/2026-10-29/
LOCATION:Temple Emanu-El San Diego\, 6299 Capri Drive\, San Diego\, CA\, 92120-4632\, United States
ATTACH;FMTTYPE=image/jpeg:https://teesd.org/wp-content/uploads/2024/08/bridge.jpg
ORGANIZER;CN="Temple Emanu-EL San Diego":MAILTO:temple@teesd.org
END:VEVENT
BEGIN:VEVENT
DTSTART;TZID=America/Los_Angeles:20261105T123000
DTEND;TZID=America/Los_Angeles:20261105T140000
DTSTAMP:20260421T153432
CREATED:20240829T175122Z
LAST-MODIFIED:20260106T173306Z
UID:10001254-1793881800-1793887200@teesd.org
SUMMARY:Bridge with Benj
DESCRIPTION:Come play bridge with Rabbi Benj in the Temple Sanctuary.
URL:https://teesd.org/event/bridge-with-benj/2026-11-05/
LOCATION:Temple Emanu-El San Diego\, 6299 Capri Drive\, San Diego\, CA\, 92120-4632\, United States
ATTACH;FMTTYPE=image/jpeg:https://teesd.org/wp-content/uploads/2024/08/bridge.jpg
ORGANIZER;CN="Temple Emanu-EL San Diego":MAILTO:temple@teesd.org
END:VEVENT
BEGIN:VEVENT
DTSTART;TZID=America/Los_Angeles:20261112T123000
DTEND;TZID=America/Los_Angeles:20261112T140000
DTSTAMP:20260421T153432
CREATED:20240829T175122Z
LAST-MODIFIED:20260106T173306Z
UID:10001255-1794486600-1794492000@teesd.org
SUMMARY:Bridge with Benj
DESCRIPTION:Come play bridge with Rabbi Benj in the Temple Sanctuary.
URL:https://teesd.org/event/bridge-with-benj/2026-11-12/
LOCATION:Temple Emanu-El San Diego\, 6299 Capri Drive\, San Diego\, CA\, 92120-4632\, United States
ATTACH;FMTTYPE=image/jpeg:https://teesd.org/wp-content/uploads/2024/08/bridge.jpg
ORGANIZER;CN="Temple Emanu-EL San Diego":MAILTO:temple@teesd.org
END:VEVENT
END:VCALENDAR