BEGIN:VCALENDAR
VERSION:2.0
PRODID:-//Temple Emanu-El - ECPv6.15.18//NONSGML v1.0//EN
CALSCALE:GREGORIAN
METHOD:PUBLISH
X-ORIGINAL-URL:https://teesd.org
X-WR-CALDESC:Events for Temple Emanu-El
REFRESH-INTERVAL;VALUE=DURATION:PT1H
X-Robots-Tag:noindex
X-PUBLISHED-TTL:PT1H
BEGIN:VTIMEZONE
TZID:UTC
BEGIN:STANDARD
TZOFFSETFROM:+0000
TZOFFSETTO:+0000
TZNAME:UTC
DTSTART:20250101T000000
END:STANDARD
END:VTIMEZONE
BEGIN:VTIMEZONE
TZID:America/Los_Angeles
BEGIN:DAYLIGHT
TZOFFSETFROM:-0800
TZOFFSETTO:-0700
TZNAME:PDT
DTSTART:20250309T100000
END:DAYLIGHT
BEGIN:STANDARD
TZOFFSETFROM:-0700
TZOFFSETTO:-0800
TZNAME:PST
DTSTART:20251102T090000
END:STANDARD
BEGIN:DAYLIGHT
TZOFFSETFROM:-0800
TZOFFSETTO:-0700
TZNAME:PDT
DTSTART:20260308T100000
END:DAYLIGHT
BEGIN:STANDARD
TZOFFSETFROM:-0700
TZOFFSETTO:-0800
TZNAME:PST
DTSTART:20261101T090000
END:STANDARD
BEGIN:DAYLIGHT
TZOFFSETFROM:-0800
TZOFFSETTO:-0700
TZNAME:PDT
DTSTART:20270314T100000
END:DAYLIGHT
BEGIN:STANDARD
TZOFFSETFROM:-0700
TZOFFSETTO:-0800
TZNAME:PST
DTSTART:20271107T090000
END:STANDARD
END:VTIMEZONE
BEGIN:VEVENT
DTSTART;TZID=UTC:20260112T133000
DTEND;TZID=UTC:20260112T160000
DTSTAMP:20260422T083350
CREATED:20240830T225043Z
LAST-MODIFIED:20251223T213818Z
UID:10002734-1768224600-1768233600@teesd.org
SUMMARY:Mah Jong
DESCRIPTION:Come join the Sisterhood in the Temple Sanctuary to play Mah Jong.
URL:https://teesd.org/event/mah-jong/2026-01-12/
LOCATION:Temple Emanu-El San Diego\, 6299 Capri Drive\, San Diego\, CA\, 92120-4632\, United States
ATTACH;FMTTYPE=image/jpeg:https://teesd.org/wp-content/uploads/2024/08/Mah-Jong-1.jpg
ORGANIZER;CN="Temple Emanu-EL San Diego":MAILTO:temple@teesd.org
END:VEVENT
BEGIN:VEVENT
DTSTART;TZID=UTC:20260113T180000
DTEND;TZID=UTC:20260113T210000
DTSTAMP:20260422T083350
CREATED:20250806T234217Z
LAST-MODIFIED:20250806T234633Z
UID:10004472-1768327200-1768338000@teesd.org
SUMMARY:CJH
DESCRIPTION:
URL:https://teesd.org/event/cjh-2/2026-01-13/
LOCATION:Temple Emanu-El San Diego\, 6299 Capri Drive\, San Diego\, CA\, 92120-4632\, United States
ATTACH;FMTTYPE=image/webp:https://teesd.org/wp-content/uploads/2024/06/Community-Jewish-High-01.webp
ORGANIZER;CN="Temple Emanu-EL San Diego":MAILTO:temple@teesd.org
END:VEVENT
BEGIN:VEVENT
DTSTART;TZID=America/Los_Angeles:20260114T110000
DTEND;TZID=America/Los_Angeles:20260114T120000
DTSTAMP:20260422T083350
CREATED:20240828T232519Z
LAST-MODIFIED:20260414T170917Z
UID:10003250-1768388400-1768392000@teesd.org
SUMMARY:Coffee with the Rabbi
DESCRIPTION:Come join Rabbi Devorah for coffee and discussion\, either in person at the Temple library or on zoom.
URL:https://teesd.org/event/coffee-with-the-rabbi/2026-01-14/
LOCATION:Temple Emanu-El San Diego\, 6299 Capri Drive\, San Diego\, CA\, 92120-4632\, United States
ATTACH;FMTTYPE=image/jpeg:https://teesd.org/wp-content/uploads/2024/01/pexels-lood-goosen-1235706-b.jpg
ORGANIZER;CN="Temple Emanu-EL San Diego":MAILTO:temple@teesd.org
END:VEVENT
BEGIN:VEVENT
DTSTART;TZID=UTC:20260114T163000
DTEND;TZID=UTC:20260114T181500
DTSTAMP:20260422T083350
CREATED:20250613T175837Z
LAST-MODIFIED:20250613T180458Z
UID:10004261-1768408200-1768414500@teesd.org
SUMMARY:Torah School Hebrew Classes
DESCRIPTION:
URL:https://teesd.org/event/torah-school-hebrew-classes-2/2026-01-14/
LOCATION:Temple Emanu-El San Diego\, 6299 Capri Drive\, San Diego\, CA\, 92120-4632\, United States
ATTACH;FMTTYPE=image/jpeg:https://teesd.org/wp-content/uploads/2024/08/TorahSchool2023_137.jpg
ORGANIZER;CN="Temple Emanu-EL San Diego":MAILTO:temple@teesd.org
END:VEVENT
BEGIN:VEVENT
DTSTART;TZID=UTC:20260114T180000
DTEND;TZID=UTC:20260114T200000
DTSTAMP:20260422T083350
CREATED:20251104T233753Z
LAST-MODIFIED:20260401T230415Z
UID:10004731-1768413600-1768420800@teesd.org
SUMMARY:Torah for the Table
DESCRIPTION:Jewish learning meets culinary school as Barry Lander and Rabbi Devorah lead you through lessons where you learn how to cook delicious Jewish meals and learn about our tradition. Fun and delicious! \nRegister HERE.
URL:https://teesd.org/event/torah-for-the-table-4/2026-01-14/
LOCATION:Temple Emanu-El San Diego\, 6299 Capri Drive\, San Diego\, CA\, 92120-4632\, United States
ATTACH;FMTTYPE=image/jpeg:https://teesd.org/wp-content/uploads/2024/10/TorahfortheTable-43.jpg
ORGANIZER;CN="Temple Emanu-EL San Diego":MAILTO:temple@teesd.org
END:VEVENT
BEGIN:VEVENT
DTSTART;TZID=America/Los_Angeles:20260115T100000
DTEND;TZID=America/Los_Angeles:20260115T110000
DTSTAMP:20260422T083350
CREATED:20251015T173550Z
LAST-MODIFIED:20251015T174135Z
UID:10000954-1768471200-1768474800@teesd.org
SUMMARY:Recovery International
DESCRIPTION:Recovery International will meet in the Social Hall.
URL:https://teesd.org/event/recovery-international-2/2026-01-15/
LOCATION:Temple Emanu-El San Diego\, 6299 Capri Drive\, San Diego\, CA\, 92120-4632\, United States
ATTACH;FMTTYPE=image/jpeg:https://teesd.org/wp-content/uploads/2024/08/cropped-BetterMentalHealth200.jpg
END:VEVENT
BEGIN:VEVENT
DTSTART;TZID=America/Los_Angeles:20260115T123000
DTEND;TZID=America/Los_Angeles:20260115T140000
DTSTAMP:20260422T083350
CREATED:20240829T175122Z
LAST-MODIFIED:20260106T173306Z
UID:10001212-1768480200-1768485600@teesd.org
SUMMARY:Bridge with Benj
DESCRIPTION:Come play bridge with Rabbi Benj in the Temple Sanctuary.
URL:https://teesd.org/event/bridge-with-benj/2026-01-15/
LOCATION:Temple Emanu-El San Diego\, 6299 Capri Drive\, San Diego\, CA\, 92120-4632\, United States
ATTACH;FMTTYPE=image/jpeg:https://teesd.org/wp-content/uploads/2024/08/bridge.jpg
ORGANIZER;CN="Temple Emanu-EL San Diego":MAILTO:temple@teesd.org
END:VEVENT
BEGIN:VEVENT
DTSTART;TZID=UTC:20260116T180000
DTEND;TZID=UTC:20260116T190000
DTSTAMP:20260422T083350
CREATED:20251017T161547Z
LAST-MODIFIED:20260114T165141Z
UID:10004669-1768586400-1768590000@teesd.org
SUMMARY:MLK Shabbat
DESCRIPTION:Join us this Friday for a Shabbat Service honoring Martin Luther King\, Jr. with a performance by the Martin Luther King\, Jr. Community Choir of San Diego. This event is generously underwritten by the Handler Family.
URL:https://teesd.org/event/mlk-shabbat/
LOCATION:Temple Emanu-El San Diego\, 6299 Capri Drive\, San Diego\, CA\, 92120-4632\, United States
ATTACH;FMTTYPE=application/pdf:https://teesd.org/wp-content/uploads/2025/10/Martin-Luther-King-Jr.-Shabbat-2026.pdf
ORGANIZER;CN="Temple Emanu-EL San Diego":MAILTO:temple@teesd.org
END:VEVENT
BEGIN:VEVENT
DTSTART;TZID=UTC:20260117T090000
DTEND;TZID=UTC:20260117T100000
DTSTAMP:20260422T083350
CREATED:20240830T200537Z
LAST-MODIFIED:20260331T195510Z
UID:10001730-1768640400-1768644000@teesd.org
SUMMARY:Torah Study
DESCRIPTION:Join in person or zoom for Torah Study in the Temple Library before Saturday Shabbat Service.
URL:https://teesd.org/event/torah-study/2026-01-17/
LOCATION:Temple Emanu-El San Diego\, 6299 Capri Drive\, San Diego\, CA\, 92120-4632\, United States
ATTACH;FMTTYPE=image/webp:https://teesd.org/wp-content/uploads/2024/07/Torah-Study-Group.webp
ORGANIZER;CN="Temple Emanu-EL San Diego":MAILTO:temple@teesd.org
END:VEVENT
BEGIN:VEVENT
DTSTART;TZID=UTC:20260117T103000
DTEND;TZID=UTC:20260117T120000
DTSTAMP:20260422T083350
CREATED:20240830T202055Z
LAST-MODIFIED:20260330T183917Z
UID:10001989-1768645800-1768651200@teesd.org
SUMMARY:Shabbat Morning Service
DESCRIPTION:
URL:https://teesd.org/event/shabbat-morning-service/2026-01-17/
LOCATION:Temple Emanu-El San Diego\, 6299 Capri Drive\, San Diego\, CA\, 92120-4632\, United States
ATTACH;FMTTYPE=image/webp:https://teesd.org/wp-content/uploads/2024/05/shabbat-morning-service-v-1.webp
ORGANIZER;CN="Temple Emanu-EL San Diego":MAILTO:temple@teesd.org
END:VEVENT
BEGIN:VEVENT
DTSTART;TZID=UTC:20260118T140000
DTEND;TZID=UTC:20260118T150000
DTSTAMP:20260422T083350
CREATED:20260107T205051Z
LAST-MODIFIED:20260421T224827Z
UID:10005951-1768744800-1768748400@teesd.org
SUMMARY:Adult Beginning Hebrew
DESCRIPTION:Learn to read and write Hebrew in just 10 sessions! Beginning Hebrew will meet on Sundays from 2-3 PM on the following dates: \n\n\nJanuary 25\nFebruary 1\nFebruary 8\nFebruary 22\nMarch 8\nMarch 15\nApril 12\nApril 19\nMay 3\nMay 31\n\n\nIntermediate Hebrew will begin in Fall 2026 and Advanced Hebrew will be offered in Spring 2027\, culminating in the opportunity to enroll in the Adult B’nei Mitzvah class in Fall 2027. \n\n\nFor any questions contact music@teesd.org.
URL:https://teesd.org/event/adult-beginning-hebrew/2026-01-18/
LOCATION:Temple Emanu-El San Diego\, 6299 Capri Drive\, San Diego\, CA\, 92120-4632\, United States
ATTACH;FMTTYPE=application/pdf:https://teesd.org/wp-content/uploads/2026/01/Adult-Beginning-Hebrew-2026_QR-1.pdf
ORGANIZER;CN="Temple Emanu-EL San Diego":MAILTO:temple@teesd.org
END:VEVENT
END:VCALENDAR